{
 "currentVersion": 10.91,
 "serviceDescription": "HoustonRd_Aerial_jpg",
 "name": "HoustonRd_Aerial_jpg",
 "description": "",
 "extent": {
  "xmin": 4816270.106480096,
  "ymin": 956740.9362094739,
  "xmax": 4822735.836467518,
  "ymax": 961737.4098423402,
  "spatialReference": {
   "wkid": 2270,
   "latestWkid": 2270
  }
 },
 "initialExtent": {
  "xmin": 4816270.106480096,
  "ymin": 956740.9362094739,
  "xmax": 4822735.836467518,
  "ymax": 961737.4098423402,
  "spatialReference": {
   "wkid": 2270,
   "latestWkid": 2270
  }
 },
 "fullExtent": {
  "xmin": 4816270.106480096,
  "ymin": 956740.9362094739,
  "xmax": 4822735.836467518,
  "ymax": 961737.4098423402,
  "spatialReference": {
   "wkid": 2270,
   "latestWkid": 2270
  }
 },
 "hasMultidimensions": false,
 "pixelSizeX": 1.4694840880504556,
 "pixelSizeY": 1.4695510684900834,
 "datasetFormat": "JFIF",
 "uncompressedSize": 44880000,
 "blockWidth": 4400,
 "blockHeight": 1,
 "compressionType": "JPEG",
 "bandNames": [
  "Band_1",
  "Band_2",
  "Band_3"
 ],
 "allowCopy": true,
 "allowAnalysis": true,
 "bandCount": 3,
 "pixelType": "U8",
 "minPixelSize": 0,
 "maxPixelSize": 0,
 "copyrightText": "",
 "serviceDataType": "esriImageServiceDataTypeRGB",
 "serviceSourceType": "esriImageServiceSourceTypeDataset",
 "minValues": [],
 "maxValues": [],
 "meanValues": [],
 "stdvValues": [],
 "objectIdField": "",
 "fields": [],
 "capabilities": "Image,Metadata,Mensuration",
 "defaultMosaicMethod": "Center",
 "allowedMosaicMethods": "",
 "sortField": "",
 "sortValue": null,
 "sortAscending": true,
 "mosaicOperator": "First",
 "defaultCompressionQuality": 75,
 "defaultResamplingMethod": "Bilinear",
 "maxImageHeight": 4100,
 "maxImageWidth": 15000,
 "allowRasterFunction": true,
 "rasterFunctionInfos": [
  {
   "name": "None",
   "description": "",
   "help": ""
  }
 ],
 "rasterTypeInfos": [
  {
   "name": "Raster Dataset",
   "description": "Supports all ArcGIS Raster Datasets",
   "help": ""
  }
 ],
 "mensurationCapabilities": "Basic",
 "hasHistograms": false,
 "hasColormap": false,
 "hasRasterAttributeTable": false,
 "minScale": 0,
 "maxScale": 0,
 "exportTilesAllowed": false,
 "supportsStatistics": false,
 "supportsAdvancedQueries": false,
 "editFieldsInfo": null,
 "ownershipBasedAccessControlForRasters": null,
 "allowComputeTiePoints": false,
 "useStandardizedQueries": true,
 "advancedQueryCapabilities": {
  "useStandardizedQueries": true,
  "supportsStatistics": false,
  "supportsOrderBy": false,
  "supportsDistinct": false,
  "supportsPagination": false
 },
 "spatialReference": {
  "wkid": 2270,
  "latestWkid": 2270
 }
}
