{
 "currentVersion": 10.91,
 "serviceDescription": "IBR/Ruby_Junction_Alt2_20230109_tif",
 "name": "IBR/Ruby_Junction_Alt2_20230109_tif",
 "description": "",
 "extent": {
  "xmin": -122.46054619165179,
  "ymin": 45.508599495686596,
  "xmax": -122.45456376992638,
  "ymax": 45.51810198172554,
  "spatialReference": {
   "wkid": 4326,
   "latestWkid": 4326
  }
 },
 "initialExtent": {
  "xmin": -122.46054619165179,
  "ymin": 45.508599495686596,
  "xmax": -122.45456376992638,
  "ymax": 45.51810198172554,
  "spatialReference": {
   "wkid": 4326,
   "latestWkid": 4326
  }
 },
 "fullExtent": {
  "xmin": -122.46054619165179,
  "ymin": 45.508599495686596,
  "xmax": -122.45456376992638,
  "ymax": 45.51810198172554,
  "spatialReference": {
   "wkid": 4326,
   "latestWkid": 4326
  }
 },
 "hasMultidimensions": false,
 "pixelSizeX": 1.6004338484232434E-6,
 "pixelSizeY": 1.107128747401516E-6,
 "datasetFormat": "TIFF",
 "uncompressedSize": 96249762,
 "blockWidth": 128,
 "blockHeight": 128,
 "compressionType": "LZW",
 "bandNames": [
  "Band_1",
  "Band_2",
  "Band_3"
 ],
 "allowCopy": true,
 "allowAnalysis": true,
 "bandCount": 3,
 "pixelType": "U8",
 "minPixelSize": 0,
 "maxPixelSize": 0,
 "copyrightText": "",
 "serviceDataType": "esriImageServiceDataTypeRGB",
 "serviceSourceType": "esriImageServiceSourceTypeDataset",
 "minValues": [
  0,
  0,
  0
 ],
 "maxValues": [
  255,
  255,
  255
 ],
 "meanValues": [
  203.05862693981,
  203.05862684629,
  203.05862687747
 ],
 "stdvValues": [
  100.03657026414,
  100.03657043884,
  100.03657038289
 ],
 "objectIdField": "",
 "fields": [],
 "capabilities": "Image,Metadata,Mensuration",
 "defaultMosaicMethod": "Center",
 "allowedMosaicMethods": "",
 "sortField": "",
 "sortValue": null,
 "sortAscending": true,
 "mosaicOperator": "First",
 "defaultCompressionQuality": 75,
 "defaultResamplingMethod": "Bilinear",
 "maxImageHeight": 4100,
 "maxImageWidth": 15000,
 "allowRasterFunction": true,
 "rasterFunctionInfos": [
  {
   "name": "None",
   "description": "",
   "help": ""
  }
 ],
 "rasterTypeInfos": [
  {
   "name": "Raster Dataset",
   "description": "Supports all ArcGIS Raster Datasets",
   "help": ""
  }
 ],
 "mensurationCapabilities": "Basic",
 "hasHistograms": true,
 "hasColormap": false,
 "hasRasterAttributeTable": false,
 "minScale": 0,
 "maxScale": 0,
 "exportTilesAllowed": false,
 "supportsStatistics": false,
 "supportsAdvancedQueries": false,
 "editFieldsInfo": null,
 "ownershipBasedAccessControlForRasters": null,
 "allowComputeTiePoints": false,
 "useStandardizedQueries": true,
 "advancedQueryCapabilities": {
  "useStandardizedQueries": true,
  "supportsStatistics": false,
  "supportsOrderBy": false,
  "supportsDistinct": false,
  "supportsPagination": false
 },
 "spatialReference": {
  "wkid": 4326,
  "latestWkid": 4326
 }
}
