{
 "currentVersion": 10.91,
 "serviceDescription": "ParkViewEstateAerial",
 "name": "ParkViewEstateAerial",
 "description": "",
 "extent": {
  "xmin": 4832668.24617263,
  "ymin": 964874.0322774405,
  "xmax": 4834174.093051541,
  "ymax": 967200.35094574,
  "spatialReference": {
   "wkid": 102727,
   "latestWkid": 102727
  }
 },
 "initialExtent": {
  "xmin": 4832668.24617263,
  "ymin": 964874.0322774405,
  "xmax": 4834174.093051541,
  "ymax": 967200.35094574,
  "spatialReference": {
   "wkid": 102727,
   "latestWkid": 102727
  }
 },
 "fullExtent": {
  "xmin": 4832668.24617263,
  "ymin": 964874.0322774405,
  "xmax": 4834174.093051541,
  "ymax": 967200.35094574,
  "spatialReference": {
   "wkid": 102727,
   "latestWkid": 102727
  }
 },
 "hasMultidimensions": false,
 "pixelSizeX": 0.34223792702509936,
 "pixelSizeY": 0.3421056865146281,
 "datasetFormat": "JFIF",
 "uncompressedSize": 89760000,
 "blockWidth": 4400,
 "blockHeight": 1,
 "compressionType": "JPEG",
 "bandNames": [
  "Band_1",
  "Band_2",
  "Band_3"
 ],
 "allowCopy": true,
 "allowAnalysis": true,
 "bandCount": 3,
 "pixelType": "U8",
 "minPixelSize": 0,
 "maxPixelSize": 0,
 "copyrightText": "",
 "serviceDataType": "esriImageServiceDataTypeRGB",
 "serviceSourceType": "esriImageServiceSourceTypeDataset",
 "minValues": [],
 "maxValues": [],
 "meanValues": [],
 "stdvValues": [],
 "objectIdField": "",
 "fields": [],
 "capabilities": "Image,Metadata,Mensuration",
 "defaultMosaicMethod": "Center",
 "allowedMosaicMethods": "",
 "sortField": "",
 "sortValue": null,
 "sortAscending": true,
 "mosaicOperator": "First",
 "defaultCompressionQuality": 75,
 "defaultResamplingMethod": "Bilinear",
 "maxImageHeight": 4100,
 "maxImageWidth": 15000,
 "allowRasterFunction": true,
 "rasterFunctionInfos": [
  {
   "name": "None",
   "description": "",
   "help": ""
  }
 ],
 "rasterTypeInfos": [
  {
   "name": "Raster Dataset",
   "description": "Supports all ArcGIS Raster Datasets",
   "help": ""
  }
 ],
 "mensurationCapabilities": "Basic",
 "hasHistograms": false,
 "hasColormap": false,
 "hasRasterAttributeTable": false,
 "minScale": 0,
 "maxScale": 0,
 "exportTilesAllowed": false,
 "supportsStatistics": false,
 "supportsAdvancedQueries": false,
 "editFieldsInfo": null,
 "ownershipBasedAccessControlForRasters": null,
 "allowComputeTiePoints": false,
 "useStandardizedQueries": true,
 "advancedQueryCapabilities": {
  "useStandardizedQueries": true,
  "supportsStatistics": false,
  "supportsOrderBy": false,
  "supportsDistinct": false,
  "supportsPagination": false
 },
 "spatialReference": {
  "wkid": 102727,
  "latestWkid": 102727
 }
}
