{
 "currentVersion": 10.91,
 "serviceDescription": "ParkViewEstateAerial_SPSI_jpg",
 "name": "ParkViewEstateAerial_SPSI_jpg",
 "description": "",
 "extent": {
  "xmin": 4832677.911528451,
  "ymin": 964875.962029555,
  "xmax": 4834183.761419051,
  "ymax": 967202.285350315,
  "spatialReference": {
   "wkid": 2270,
   "latestWkid": 2270
  }
 },
 "initialExtent": {
  "xmin": 4832677.911528451,
  "ymin": 964875.962029555,
  "xmax": 4834183.761419051,
  "ymax": 967202.285350315,
  "spatialReference": {
   "wkid": 2270,
   "latestWkid": 2270
  }
 },
 "fullExtent": {
  "xmin": 4832677.911528451,
  "ymin": 964875.962029555,
  "xmax": 4834183.761419051,
  "ymax": 967202.285350315,
  "spatialReference": {
   "wkid": 2270,
   "latestWkid": 2270
  }
 },
 "hasMultidimensions": false,
 "pixelSizeX": 0.3422386114999906,
 "pixelSizeY": 0.3421063707000062,
 "datasetFormat": "JFIF",
 "uncompressedSize": 89760000,
 "blockWidth": 4400,
 "blockHeight": 1,
 "compressionType": "JPEG",
 "bandNames": [
  "Band_1",
  "Band_2",
  "Band_3"
 ],
 "allowCopy": true,
 "allowAnalysis": true,
 "bandCount": 3,
 "noDataValue": 256,
 "noDataValues": [
  256,
  256,
  256
 ],
 "pixelType": "U8",
 "minPixelSize": 0,
 "maxPixelSize": 0,
 "copyrightText": "",
 "serviceDataType": "esriImageServiceDataTypeRGB",
 "serviceSourceType": "esriImageServiceSourceTypeDataset",
 "minValues": [
  0,
  0,
  0
 ],
 "maxValues": [
  255,
  255,
  255
 ],
 "meanValues": [
  108.86790360964,
  112.56701985294,
  92.918064003996
 ],
 "stdvValues": [
  55.694551851642,
  43.318637582061,
  43.831863009027
 ],
 "objectIdField": "",
 "fields": [],
 "capabilities": "Image,Metadata,Mensuration",
 "defaultMosaicMethod": "Center",
 "allowedMosaicMethods": "",
 "sortField": "",
 "sortValue": null,
 "sortAscending": true,
 "mosaicOperator": "First",
 "defaultCompressionQuality": 75,
 "defaultResamplingMethod": "Bilinear",
 "maxImageHeight": 4100,
 "maxImageWidth": 15000,
 "allowRasterFunction": true,
 "rasterFunctionInfos": [
  {
   "name": "None",
   "description": "",
   "help": ""
  }
 ],
 "rasterTypeInfos": [
  {
   "name": "Raster Dataset",
   "description": "Supports all ArcGIS Raster Datasets",
   "help": ""
  }
 ],
 "mensurationCapabilities": "Basic",
 "hasHistograms": true,
 "hasColormap": false,
 "hasRasterAttributeTable": false,
 "minScale": 0,
 "maxScale": 0,
 "exportTilesAllowed": false,
 "supportsStatistics": false,
 "supportsAdvancedQueries": false,
 "editFieldsInfo": null,
 "ownershipBasedAccessControlForRasters": null,
 "allowComputeTiePoints": false,
 "useStandardizedQueries": true,
 "advancedQueryCapabilities": {
  "useStandardizedQueries": true,
  "supportsStatistics": false,
  "supportsOrderBy": false,
  "supportsDistinct": false,
  "supportsPagination": false
 },
 "spatialReference": {
  "wkid": 2270,
  "latestWkid": 2270
 }
}
