{
 "currentVersion": 10.91,
 "serviceDescription": "RedLine/Gateway_ROW_92020",
 "name": "RedLine/Gateway_ROW_92020",
 "description": "",
 "extent": {
  "xmin": 7672719.783186442,
  "ymin": 686117.5217676089,
  "xmax": 7674478.324833766,
  "ymax": 690727.3038965912,
  "spatialReference": {
   "wkid": 2269,
   "latestWkid": 2269
  }
 },
 "initialExtent": {
  "xmin": 7672719.783186442,
  "ymin": 686117.5217676089,
  "xmax": 7674478.324833766,
  "ymax": 690727.3038965912,
  "spatialReference": {
   "wkid": 2269,
   "latestWkid": 2269
  }
 },
 "fullExtent": {
  "xmin": 7672719.783186442,
  "ymin": 686117.5217676089,
  "xmax": 7674478.324833766,
  "ymax": 690727.3038965912,
  "spatialReference": {
   "wkid": 2269,
   "latestWkid": 2269
  }
 },
 "pixelSizeX": 0.3451504705247119,
 "pixelSizeY": 0.20539955126240902,
 "bandCount": 3,
 "pixelType": "U8",
 "minPixelSize": 0,
 "maxPixelSize": 0,
 "copyrightText": "",
 "serviceDataType": "esriImageServiceDataTypeRGB",
 "minValues": [
  0,
  0,
  0
 ],
 "maxValues": [
  255,
  255,
  255
 ],
 "meanValues": [
  209.04794775234,
  211.99277337601,
  203.96848750724
 ],
 "stdvValues": [
  24.05316817708,
  22.251199284675,
  23.990427026177
 ],
 "objectIdField": "",
 "fields": [],
 "capabilities": "Image,Metadata,Mensuration",
 "defaultMosaicMethod": "Center",
 "allowedMosaicMethods": "",
 "sortField": "",
 "sortValue": null,
 "sortAscending": true,
 "mosaicOperator": "First",
 "defaultCompressionQuality": 75,
 "defaultResamplingMethod": "Bilinear",
 "maxImageHeight": 4100,
 "maxImageWidth": 15000,
 "allowRasterFunction": true,
 "rasterFunctionInfos": [
  {
   "name": "None",
   "description": "",
   "help": ""
  }
 ],
 "rasterTypeInfos": [
  {
   "name": "Raster Dataset",
   "description": "Supports all ArcGIS Raster Datasets",
   "help": ""
  }
 ],
 "mensurationCapabilities": "Basic",
 "hasHistograms": true,
 "hasColormap": false,
 "hasRasterAttributeTable": false,
 "minScale": 0,
 "maxScale": 0,
 "exportTilesAllowed": false,
 "hasMultidimensions": false,
 "supportsStatistics": false,
 "supportsAdvancedQueries": false,
 "editFieldsInfo": null,
 "ownershipBasedAccessControlForRasters": null,
 "allowComputeTiePoints": false,
 "useStandardizedQueries": true,
 "advancedQueryCapabilities": {
  "useStandardizedQueries": true,
  "supportsStatistics": false,
  "supportsOrderBy": false,
  "supportsDistinct": false,
  "supportsPagination": false
 },
 "spatialReference": {
  "wkid": 2269,
  "latestWkid": 2269
 }
}
