{
 "currentVersion": 10.91,
 "serviceDescription": "RedLine/PDX_ROW_9200",
 "name": "RedLine/PDX_ROW_9200",
 "description": "",
 "extent": {
  "xmin": 7665791.811826397,
  "ymin": 704652.5566695626,
  "xmax": 7670956.005465785,
  "ymax": 707511.4531872963,
  "spatialReference": {
   "wkid": 2269,
   "latestWkid": 2269
  }
 },
 "initialExtent": {
  "xmin": 7665791.811826397,
  "ymin": 704652.5566695626,
  "xmax": 7670956.005465785,
  "ymax": 707511.4531872963,
  "spatialReference": {
   "wkid": 2269,
   "latestWkid": 2269
  }
 },
 "fullExtent": {
  "xmin": 7665791.811826397,
  "ymin": 704652.5566695626,
  "xmax": 7670956.005465785,
  "ymax": 707511.4531872963,
  "spatialReference": {
   "wkid": 2269,
   "latestWkid": 2269
  }
 },
 "pixelSizeX": 1.1226507911713712,
 "pixelSizeY": 0.1096749345046877,
 "bandCount": 3,
 "pixelType": "U8",
 "minPixelSize": 0,
 "maxPixelSize": 0,
 "copyrightText": "",
 "serviceDataType": "esriImageServiceDataTypeRGB",
 "minValues": [],
 "maxValues": [],
 "meanValues": [],
 "stdvValues": [],
 "objectIdField": "",
 "fields": [],
 "capabilities": "Image,Metadata,Mensuration",
 "defaultMosaicMethod": "Center",
 "allowedMosaicMethods": "",
 "sortField": "",
 "sortValue": null,
 "sortAscending": true,
 "mosaicOperator": "First",
 "defaultCompressionQuality": 75,
 "defaultResamplingMethod": "Bilinear",
 "maxImageHeight": 4100,
 "maxImageWidth": 15000,
 "allowRasterFunction": true,
 "rasterFunctionInfos": [
  {
   "name": "None",
   "description": "",
   "help": ""
  }
 ],
 "rasterTypeInfos": [
  {
   "name": "Raster Dataset",
   "description": "Supports all ArcGIS Raster Datasets",
   "help": ""
  }
 ],
 "mensurationCapabilities": "Basic",
 "hasHistograms": false,
 "hasColormap": false,
 "hasRasterAttributeTable": false,
 "minScale": 0,
 "maxScale": 0,
 "exportTilesAllowed": false,
 "hasMultidimensions": false,
 "supportsStatistics": false,
 "supportsAdvancedQueries": false,
 "editFieldsInfo": null,
 "ownershipBasedAccessControlForRasters": null,
 "allowComputeTiePoints": false,
 "useStandardizedQueries": true,
 "advancedQueryCapabilities": {
  "useStandardizedQueries": true,
  "supportsStatistics": false,
  "supportsOrderBy": false,
  "supportsDistinct": false,
  "supportsPagination": false
 },
 "spatialReference": {
  "wkid": 2269,
  "latestWkid": 2269
 }
}
