{
 "currentVersion": 10.91,
 "serviceDescription": "ST_Stormwater/C410_and_C430",
 "name": "ST_Stormwater/C410_and_C430",
 "description": "",
 "extent": {
  "xmin": 1277168.2809546946,
  "ymin": 165582.86244696972,
  "xmax": 1280537.8010270842,
  "ymax": 173128.51401126423,
  "spatialReference": {
   "wkid": 103180,
   "latestWkid": 6597
  }
 },
 "initialExtent": {
  "xmin": 1277168.2809546946,
  "ymin": 165582.86244696972,
  "xmax": 1280537.8010270842,
  "ymax": 173128.51401126423,
  "spatialReference": {
   "wkid": 103180,
   "latestWkid": 6597
  }
 },
 "fullExtent": {
  "xmin": 1277168.2809546946,
  "ymin": 165582.86244696972,
  "xmax": 1280537.8010270842,
  "ymax": 173128.51401126423,
  "spatialReference": {
   "wkid": 103180,
   "latestWkid": 6597
  }
 },
 "pixelSizeX": 0.2958054668062178,
 "pixelSizeY": 0.14667414839721063,
 "bandCount": 4,
 "pixelType": "U8",
 "minPixelSize": 0,
 "maxPixelSize": 0,
 "copyrightText": "",
 "serviceDataType": "esriImageServiceDataTypeGeneric",
 "minValues": [
  0,
  0,
  0,
  0
 ],
 "maxValues": [
  255,
  255,
  255,
  255
 ],
 "meanValues": [
  245.4602818172982,
  245.44550178369414,
  245.44550178369414,
  14.919614523058604
 ],
 "stdvValues": [
  41.74995696291783,
  41.79190339187628,
  41.79190339187628,
  55.75278841443024
 ],
 "objectIdField": "",
 "fields": [],
 "capabilities": "Image,Metadata,Mensuration",
 "defaultMosaicMethod": "Center",
 "allowedMosaicMethods": "",
 "sortField": "",
 "sortValue": null,
 "sortAscending": true,
 "mosaicOperator": "First",
 "defaultCompressionQuality": 75,
 "defaultResamplingMethod": "Bilinear",
 "maxImageHeight": 4100,
 "maxImageWidth": 15000,
 "allowRasterFunction": true,
 "rasterFunctionInfos": [
  {
   "name": "None",
   "description": "",
   "help": ""
  }
 ],
 "rasterTypeInfos": [
  {
   "name": "Raster Dataset",
   "description": "Supports all ArcGIS Raster Datasets",
   "help": ""
  }
 ],
 "mensurationCapabilities": "Basic",
 "hasHistograms": true,
 "hasColormap": false,
 "hasRasterAttributeTable": false,
 "minScale": 0,
 "maxScale": 0,
 "exportTilesAllowed": false,
 "hasMultidimensions": false,
 "supportsStatistics": false,
 "supportsAdvancedQueries": false,
 "editFieldsInfo": null,
 "ownershipBasedAccessControlForRasters": null,
 "allowComputeTiePoints": false,
 "useStandardizedQueries": true,
 "advancedQueryCapabilities": {
  "useStandardizedQueries": true,
  "supportsStatistics": false,
  "supportsOrderBy": false,
  "supportsDistinct": false,
  "supportsPagination": false
 },
 "spatialReference": {
  "wkid": 103180,
  "latestWkid": 6597
 }
}
