{
 "currentVersion": 10.91,
 "serviceDescription": "C700 Shets 234 to 247 (loaded 8.13.2020)",
 "name": "ST_Stormwater/C700_Sheets_234_to_247",
 "description": "C700 Shets 234 to 247 (loaded 8.13.2020)",
 "extent": {
  "xmin": 1271308.3069051881,
  "ymin": 213848.21531446493,
  "xmax": 1273484.1625762489,
  "ymax": 220316.60572809947,
  "spatialReference": {
   "wkid": 103180,
   "latestWkid": 6597
  }
 },
 "initialExtent": {
  "xmin": 1271308.3069051881,
  "ymin": 213848.21531446493,
  "xmax": 1273484.1625762489,
  "ymax": 220316.60572809947,
  "spatialReference": {
   "wkid": 103180,
   "latestWkid": 6597
  }
 },
 "fullExtent": {
  "xmin": 1271308.3069051881,
  "ymin": 213848.21531446493,
  "xmax": 1273484.1625762489,
  "ymax": 220316.60572809947,
  "spatialReference": {
   "wkid": 103180,
   "latestWkid": 6597
  }
 },
 "pixelSizeX": 0.06792332119188166,
 "pixelSizeY": 0.07087171343648486,
 "bandCount": 4,
 "pixelType": "U8",
 "minPixelSize": 0,
 "maxPixelSize": 0,
 "copyrightText": "",
 "serviceDataType": "esriImageServiceDataTypeGeneric",
 "minValues": [
  0,
  0,
  0,
  0
 ],
 "maxValues": [
  255,
  255,
  255,
  255
 ],
 "meanValues": [
  249.1159093552956,
  249.0017313766016,
  249.0017313766016,
  7.226894638964227
 ],
 "stdvValues": [
  35.077365694748345,
  35.47518251810796,
  35.47518251810796,
  40.80069709384233
 ],
 "objectIdField": "",
 "fields": [],
 "capabilities": "Image,Metadata,Mensuration",
 "defaultMosaicMethod": "Center",
 "allowedMosaicMethods": "",
 "sortField": "",
 "sortValue": null,
 "sortAscending": true,
 "mosaicOperator": "First",
 "defaultCompressionQuality": 75,
 "defaultResamplingMethod": "Bilinear",
 "maxImageHeight": 4100,
 "maxImageWidth": 15000,
 "allowRasterFunction": true,
 "rasterFunctionInfos": [
  {
   "name": "None",
   "description": "",
   "help": ""
  }
 ],
 "rasterTypeInfos": [
  {
   "name": "Raster Dataset",
   "description": "Supports all ArcGIS Raster Datasets",
   "help": ""
  }
 ],
 "mensurationCapabilities": "Basic",
 "hasHistograms": true,
 "hasColormap": false,
 "hasRasterAttributeTable": false,
 "minScale": 0,
 "maxScale": 0,
 "exportTilesAllowed": false,
 "hasMultidimensions": false,
 "supportsStatistics": false,
 "supportsAdvancedQueries": false,
 "editFieldsInfo": null,
 "ownershipBasedAccessControlForRasters": null,
 "allowComputeTiePoints": false,
 "useStandardizedQueries": true,
 "advancedQueryCapabilities": {
  "useStandardizedQueries": true,
  "supportsStatistics": false,
  "supportsOrderBy": false,
  "supportsDistinct": false,
  "supportsPagination": false
 },
 "spatialReference": {
  "wkid": 103180,
  "latestWkid": 6597
 }
}
