{
 "currentVersion": 10.91,
 "serviceDescription": "ST_Stormwater/C735_Sheets_66_to_68",
 "name": "ST_Stormwater/C735_Sheets_66_to_68",
 "description": "",
 "extent": {
  "xmin": 1278894.0819038346,
  "ymin": 211719.08165135098,
  "xmax": 1279392.6137402575,
  "ymax": 213493.39781732645,
  "spatialReference": {
   "wkid": 103180,
   "latestWkid": 6597
  }
 },
 "initialExtent": {
  "xmin": 1278894.0819038346,
  "ymin": 211719.08165135098,
  "xmax": 1279392.6137402575,
  "ymax": 213493.39781732645,
  "spatialReference": {
   "wkid": 103180,
   "latestWkid": 6597
  }
 },
 "fullExtent": {
  "xmin": 1278894.0819038346,
  "ymin": 211719.08165135098,
  "xmax": 1279392.6137402575,
  "ymax": 213493.39781732645,
  "spatialReference": {
   "wkid": 103180,
   "latestWkid": 6597
  }
 },
 "pixelSizeX": 0.08862788203073045,
 "pixelSizeY": 0.2151990498454178,
 "bandCount": 4,
 "pixelType": "U8",
 "minPixelSize": 0,
 "maxPixelSize": 0,
 "copyrightText": "",
 "serviceDataType": "esriImageServiceDataTypeGeneric",
 "minValues": [
  0,
  0,
  0,
  0
 ],
 "maxValues": [
  255,
  255,
  255,
  255
 ],
 "meanValues": [
  239.5783209894919,
  238.66267968738708,
  238.64990968283456,
  126.38514046084973
 ],
 "stdvValues": [
  53.71741944035255,
  55.65649462801703,
  55.58103810439984,
  127.48516241854658
 ],
 "objectIdField": "",
 "fields": [],
 "capabilities": "Image,Metadata,Mensuration",
 "defaultMosaicMethod": "Center",
 "allowedMosaicMethods": "",
 "sortField": "",
 "sortValue": null,
 "sortAscending": true,
 "mosaicOperator": "First",
 "defaultCompressionQuality": 75,
 "defaultResamplingMethod": "Bilinear",
 "maxImageHeight": 4100,
 "maxImageWidth": 15000,
 "allowRasterFunction": true,
 "rasterFunctionInfos": [
  {
   "name": "None",
   "description": "",
   "help": ""
  }
 ],
 "rasterTypeInfos": [
  {
   "name": "Raster Dataset",
   "description": "Supports all ArcGIS Raster Datasets",
   "help": ""
  }
 ],
 "mensurationCapabilities": "Basic",
 "hasHistograms": true,
 "hasColormap": false,
 "hasRasterAttributeTable": false,
 "minScale": 0,
 "maxScale": 0,
 "exportTilesAllowed": false,
 "hasMultidimensions": false,
 "supportsStatistics": false,
 "supportsAdvancedQueries": false,
 "editFieldsInfo": null,
 "ownershipBasedAccessControlForRasters": null,
 "allowComputeTiePoints": false,
 "useStandardizedQueries": true,
 "advancedQueryCapabilities": {
  "useStandardizedQueries": true,
  "supportsStatistics": false,
  "supportsOrderBy": false,
  "supportsDistinct": false,
  "supportsPagination": false
 },
 "spatialReference": {
  "wkid": 103180,
  "latestWkid": 6597
 }
}
