{
 "currentVersion": 10.91,
 "serviceDescription": "ST_Stormwater/C740_Sheets_316_to_345",
 "name": "ST_Stormwater/C740_Sheets_316_to_345",
 "description": "",
 "extent": {
  "xmin": 1281888.9349453745,
  "ymin": 189605.31936109316,
  "xmax": 1283963.3964514586,
  "ymax": 201641.30696852962,
  "spatialReference": {
   "wkid": 103180,
   "latestWkid": 6597
  }
 },
 "initialExtent": {
  "xmin": 1281888.9349453745,
  "ymin": 189605.31936109316,
  "xmax": 1283963.3964514586,
  "ymax": 201641.30696852962,
  "spatialReference": {
   "wkid": 103180,
   "latestWkid": 6597
  }
 },
 "fullExtent": {
  "xmin": 1281888.9349453745,
  "ymin": 189605.31936109316,
  "xmax": 1283963.3964514586,
  "ymax": 201641.30696852962,
  "spatialReference": {
   "wkid": 103180,
   "latestWkid": 6597
  }
 },
 "pixelSizeX": 0.353039738952361,
 "pixelSizeY": 0.13447429843846598,
 "bandCount": 4,
 "pixelType": "U8",
 "minPixelSize": 0,
 "maxPixelSize": 0,
 "copyrightText": "",
 "serviceDataType": "esriImageServiceDataTypeGeneric",
 "minValues": [
  0,
  0,
  0,
  0
 ],
 "maxValues": [
  255,
  255,
  255,
  255
 ],
 "meanValues": [
  243.37512463939316,
  242.73675334715588,
  242.73675334715588,
  13.620368315153277
 ],
 "stdvValues": [
  48.18233825319247,
  49.690770545764664,
  49.690770545764664,
  52.87927418725347
 ],
 "objectIdField": "",
 "fields": [],
 "capabilities": "Image,Metadata,Mensuration",
 "defaultMosaicMethod": "Center",
 "allowedMosaicMethods": "",
 "sortField": "",
 "sortValue": null,
 "sortAscending": true,
 "mosaicOperator": "First",
 "defaultCompressionQuality": 75,
 "defaultResamplingMethod": "Bilinear",
 "maxImageHeight": 4100,
 "maxImageWidth": 15000,
 "allowRasterFunction": true,
 "rasterFunctionInfos": [
  {
   "name": "None",
   "description": "",
   "help": ""
  }
 ],
 "rasterTypeInfos": [
  {
   "name": "Raster Dataset",
   "description": "Supports all ArcGIS Raster Datasets",
   "help": ""
  }
 ],
 "mensurationCapabilities": "Basic",
 "hasHistograms": true,
 "hasColormap": false,
 "hasRasterAttributeTable": false,
 "minScale": 0,
 "maxScale": 0,
 "exportTilesAllowed": false,
 "hasMultidimensions": false,
 "supportsStatistics": false,
 "supportsAdvancedQueries": false,
 "editFieldsInfo": null,
 "ownershipBasedAccessControlForRasters": null,
 "allowComputeTiePoints": false,
 "useStandardizedQueries": true,
 "advancedQueryCapabilities": {
  "useStandardizedQueries": true,
  "supportsStatistics": false,
  "supportsOrderBy": false,
  "supportsDistinct": false,
  "supportsPagination": false
 },
 "spatialReference": {
  "wkid": 103180,
  "latestWkid": 6597
 }
}
