{
 "currentVersion": 10.91,
 "serviceDescription": "ST_Stormwater/C755_Sheets_403_to_453",
 "name": "ST_Stormwater/C755_Sheets_403_to_453",
 "description": "",
 "extent": {
  "xmin": 1280193.718581269,
  "ymin": 172195.01503583652,
  "xmax": 1285523.666064526,
  "ymax": 190222.0343821329,
  "spatialReference": {
   "wkid": 103180,
   "latestWkid": 6597
  }
 },
 "initialExtent": {
  "xmin": 1280193.718581269,
  "ymin": 172195.01503583652,
  "xmax": 1285523.666064526,
  "ymax": 190222.0343821329,
  "spatialReference": {
   "wkid": 103180,
   "latestWkid": 6597
  }
 },
 "fullExtent": {
  "xmin": 1280193.718581269,
  "ymin": 172195.01503583652,
  "xmax": 1285523.666064526,
  "ymax": 190222.0343821329,
  "spatialReference": {
   "wkid": 103180,
   "latestWkid": 6597
  }
 },
 "pixelSizeX": 0.3332675222445398,
 "pixelSizeY": 0.11402866271725565,
 "bandCount": 4,
 "pixelType": "U8",
 "minPixelSize": 0,
 "maxPixelSize": 0,
 "copyrightText": "",
 "serviceDataType": "esriImageServiceDataTypeGeneric",
 "minValues": [
  0,
  0,
  0,
  0
 ],
 "maxValues": [
  255,
  255,
  255,
  255
 ],
 "meanValues": [
  241.04592430820836,
  240.24046892237874,
  240.24046892237874,
  18.478386968003573
 ],
 "stdvValues": [
  49.0886283345147,
  50.91477290394104,
  50.91477290394104,
  59.86054292682783
 ],
 "objectIdField": "",
 "fields": [],
 "capabilities": "Image,Metadata,Mensuration",
 "defaultMosaicMethod": "Center",
 "allowedMosaicMethods": "",
 "sortField": "",
 "sortValue": null,
 "sortAscending": true,
 "mosaicOperator": "First",
 "defaultCompressionQuality": 75,
 "defaultResamplingMethod": "Bilinear",
 "maxImageHeight": 4100,
 "maxImageWidth": 15000,
 "allowRasterFunction": true,
 "rasterFunctionInfos": [
  {
   "name": "None",
   "description": "",
   "help": ""
  }
 ],
 "rasterTypeInfos": [
  {
   "name": "Raster Dataset",
   "description": "Supports all ArcGIS Raster Datasets",
   "help": ""
  }
 ],
 "mensurationCapabilities": "Basic",
 "hasHistograms": true,
 "hasColormap": false,
 "hasRasterAttributeTable": false,
 "minScale": 0,
 "maxScale": 0,
 "exportTilesAllowed": false,
 "hasMultidimensions": false,
 "supportsStatistics": false,
 "supportsAdvancedQueries": false,
 "editFieldsInfo": null,
 "ownershipBasedAccessControlForRasters": null,
 "allowComputeTiePoints": false,
 "useStandardizedQueries": true,
 "advancedQueryCapabilities": {
  "useStandardizedQueries": true,
  "supportsStatistics": false,
  "supportsOrderBy": false,
  "supportsDistinct": false,
  "supportsPagination": false
 },
 "spatialReference": {
  "wkid": 103180,
  "latestWkid": 6597
 }
}
