View In:
ArcGIS JavaScript
ArcGIS Online Map Viewer
ArcGIS Earth
ArcMap
View Footprint In:
ArcGIS Online Map Viewer
Service Description: Burnside/Alt_3b5d_120HighNorthTwin_MS
Name: Burnside/Alt_3b5d_120HighNorthTwin_MS
Description:
Single Fused Map Cache: false
Extent:
XMin: -1.365685552657406E7
YMin: 5702833.929334961
XMax: -1.3653891828183841E7
YMax: 5704737.85129482
Spatial Reference: 102100
(3857)
Initial Extent:
XMin: -1.365685552657406E7
YMin: 5702833.929334961
XMax: -1.3653891828183841E7
YMax: 5704737.85129482
Spatial Reference: 102100
(3857)
Full Extent:
XMin: -1.365685552657406E7
YMin: 5702833.929334961
XMax: -1.3653891828183841E7
YMax: 5704737.85129482
Spatial Reference: 102100
(3857)
Pixel Size X: 0.8042600787569499
Pixel Size Y: 0.8057223698092759
Band Count: 3
Pixel Type: U8
RasterFunction Infos: {"rasterFunctionInfos": [{
"name": "None",
"description": "",
"help": ""
}]}
Mensuration Capabilities: Basic
Has Histograms: true
Has Colormap: false
Has Multi Dimensions : false
Rendering Rule:
Min Scale: 0
Max Scale: 0
Copyright Text:
Service Data Type: esriImageServiceDataTypeRGB
Min Values: 0, 0, 0
Max Values: 255, 255, 255
Mean Values: 217.61948791035, 218.34266826144, 216.28714562073
Standard Deviation Values: 63.291887589832, 61.889583278085, 63.348362454349
Object ID Field:
Fields:
None
Default Mosaic Method: Center
Allowed Mosaic Methods:
SortField:
SortValue: null
Mosaic Operator: First
Default Compression Quality: 75
Default Resampling Method: Bilinear
Max Record Count: null
Max Image Height: 4100
Max Image Width: 15000
Max Download Image Count: null
Max Mosaic Image Count: null
Allow Raster Function: true
Allow Copy: null
Allow Analysis: null
Allow Compute TiePoints: false
Supports Statistics: false
Supports Advanced Queries: false
Use StandardizedQueries: true
Raster Type Infos:
Name: Raster Dataset
Description: Supports all ArcGIS Raster Datasets
Help:
Has Raster Attribute Table: false
Edit Fields Info: null
Ownership Based AccessControl For Rasters: null
Child Resources:
Info
Histograms
Key Properties
Legend
Raster Function Infos
Supported Operations:
Export Image
Identify
Measure
Compute Histograms
Compute Statistics Histograms
Get Samples
Compute Class Statistics
Query Boundary
Compute Pixel Location
Compute Angles
Validate
Project