View In:
ArcGIS JavaScript
ArcGIS Online Map Viewer
ArcGIS Earth
ArcMap
View Footprint In:
ArcGIS Online Map Viewer
Service Description: Burnside/Alt_3b5d_97NorthTwin_MS
Name: Burnside/Alt_3b5d_97NorthTwin_MS
Description:
Single Fused Map Cache: false
Extent:
XMin: -1.365685686157671E7
YMin: 5702717.119406123
XMax: -1.3653892303260343E7
YMax: 5704620.958308206
Spatial Reference: 102100
(3857)
Initial Extent:
XMin: -1.365685686157671E7
YMin: 5702717.119406123
XMax: -1.3653892303260343E7
YMax: 5704620.958308206
Spatial Reference: 102100
(3857)
Full Extent:
XMin: -1.365685686157671E7
YMin: 5702717.119406123
XMax: -1.3653892303260343E7
YMax: 5704620.958308206
Spatial Reference: 102100
(3857)
Pixel Size X: 0.8047118122602462
Pixel Size Y: 0.8056872205176578
Band Count: 3
Pixel Type: U8
RasterFunction Infos: {"rasterFunctionInfos": [{
"name": "None",
"description": "",
"help": ""
}]}
Mensuration Capabilities: Basic
Has Histograms: true
Has Colormap: false
Has Multi Dimensions : false
Rendering Rule:
Min Scale: 0
Max Scale: 0
Copyright Text:
Service Data Type: esriImageServiceDataTypeRGB
Min Values: 0, 0, 0
Max Values: 255, 255, 255
Mean Values: 223.76565266275, 224.07930865503, 222.52676636235
Standard Deviation Values: 60.038024935986, 59.157225928358, 60.3387411067
Object ID Field:
Fields:
None
Default Mosaic Method: Center
Allowed Mosaic Methods:
SortField:
SortValue: null
Mosaic Operator: First
Default Compression Quality: 75
Default Resampling Method: Bilinear
Max Record Count: null
Max Image Height: 4100
Max Image Width: 15000
Max Download Image Count: null
Max Mosaic Image Count: null
Allow Raster Function: true
Allow Copy: null
Allow Analysis: null
Allow Compute TiePoints: false
Supports Statistics: false
Supports Advanced Queries: false
Use StandardizedQueries: true
Raster Type Infos:
Name: Raster Dataset
Description: Supports all ArcGIS Raster Datasets
Help:
Has Raster Attribute Table: false
Edit Fields Info: null
Ownership Based AccessControl For Rasters: null
Child Resources:
Info
Histograms
Key Properties
Legend
Raster Function Infos
Supported Operations:
Export Image
Identify
Measure
Compute Histograms
Compute Statistics Histograms
Get Samples
Compute Class Statistics
Query Boundary
Compute Pixel Location
Compute Angles
Validate
Project