View In:
ArcGIS JavaScript
ArcGIS Online Map Viewer
ArcGIS Earth
ArcMap
View Footprint In:
ArcGIS Online Map Viewer
Service Description: FrontRunner/Clearfield_RollPlot_20220307
Name: FrontRunner/Clearfield_RollPlot_20220307
Description:
Single Fused Map Cache: false
Extent:
XMin: -1.2472880759756317E7
YMin: 5026188.485416209
XMax: -1.2469147335585212E7
YMax: 5034312.539080334
Spatial Reference: 102100
(3857)
Initial Extent:
XMin: -1.2472880759756317E7
YMin: 5026188.485416209
XMax: -1.2469147335585212E7
YMax: 5034312.539080334
Spatial Reference: 102100
(3857)
Full Extent:
XMin: -1.2472880759756317E7
YMin: 5026188.485416209
XMax: -1.2469147335585212E7
YMax: 5034312.539080334
Spatial Reference: 102100
(3857)
Pixel Size X: 0.06222373618508378
Pixel Size Y: 0.8460793234872496
Band Count: 3
Pixel Type: U8
RasterFunction Infos: {"rasterFunctionInfos": [{
"name": "None",
"description": "",
"help": ""
}]}
Mensuration Capabilities: Basic
Has Histograms: true
Has Colormap: false
Has Multi Dimensions : false
Rendering Rule:
Min Scale: 0
Max Scale: 0
Copyright Text:
Service Data Type: esriImageServiceDataTypeRGB
Min Values: 0, 0, 0
Max Values: 255, 255, 255
Mean Values: 237.3145607201, 236.77767894015, 236.4323673263
Standard Deviation Values: 43.186689511959, 43.385425577675, 43.362049037655
Object ID Field:
Fields:
None
Default Mosaic Method: Center
Allowed Mosaic Methods:
SortField:
SortValue: null
Mosaic Operator: First
Default Compression Quality: 75
Default Resampling Method: Bilinear
Max Record Count: null
Max Image Height: 4100
Max Image Width: 15000
Max Download Image Count: null
Max Mosaic Image Count: null
Allow Raster Function: true
Allow Copy: true
Allow Analysis: true
Allow Compute TiePoints: false
Supports Statistics: false
Supports Advanced Queries: false
Use StandardizedQueries: true
Raster Type Infos:
Name: Raster Dataset
Description: Supports all ArcGIS Raster Datasets
Help:
Has Raster Attribute Table: false
Edit Fields Info: null
Ownership Based AccessControl For Rasters: null
Child Resources:
Info
Histograms
Statistics
Key Properties
Legend
Raster Function Infos
Supported Operations:
Export Image
Identify
Measure
Compute Histograms
Compute Statistics Histograms
Get Samples
Compute Class Statistics
Query Boundary
Compute Pixel Location
Compute Angles
Validate
Project