View In:
ArcGIS JavaScript
ArcGIS Online Map Viewer
ArcGIS Earth
ArcMap
View Footprint In:
ArcGIS Online Map Viewer
Service Description: FrontRunner/Lehi_RollPlot_20220224
Name: FrontRunner/Lehi_RollPlot_20220224
Description:
Single Fused Map Cache: false
Extent:
XMin: -1.2458929150422208E7
YMin: 4927474.193326323
XMax: -1.2455892348416481E7
YMax: 4930875.903237499
Spatial Reference: 102100
(3857)
Initial Extent:
XMin: -1.2458929150422208E7
YMin: 4927474.193326323
XMax: -1.2455892348416481E7
YMax: 4930875.903237499
Spatial Reference: 102100
(3857)
Full Extent:
XMin: -1.2458929150422208E7
YMin: 4927474.193326323
XMax: -1.2455892348416481E7
YMax: 4930875.903237499
Spatial Reference: 102100
(3857)
Pixel Size X: 0.11247414836025349
Pixel Size Y: 0.4723285075223554
Band Count: 3
Pixel Type: U8
RasterFunction Infos: {"rasterFunctionInfos": [{
"name": "None",
"description": "",
"help": ""
}]}
Mensuration Capabilities: Basic
Has Histograms: true
Has Colormap: false
Has Multi Dimensions : false
Rendering Rule:
Min Scale: 0
Max Scale: 0
Copyright Text:
Service Data Type: esriImageServiceDataTypeRGB
Min Values: 0, 0, 0
Max Values: 255, 255, 255
Mean Values: 232.24932756846, 231.76386663164, 230.40894189378
Standard Deviation Values: 46.649215599822, 46.34055679781, 47.154698666276
Object ID Field:
Fields:
None
Default Mosaic Method: Center
Allowed Mosaic Methods:
SortField:
SortValue: null
Mosaic Operator: First
Default Compression Quality: 75
Default Resampling Method: Bilinear
Max Record Count: null
Max Image Height: 4100
Max Image Width: 15000
Max Download Image Count: null
Max Mosaic Image Count: null
Allow Raster Function: true
Allow Copy: true
Allow Analysis: true
Allow Compute TiePoints: false
Supports Statistics: false
Supports Advanced Queries: false
Use StandardizedQueries: true
Raster Type Infos:
Name: Raster Dataset
Description: Supports all ArcGIS Raster Datasets
Help:
Has Raster Attribute Table: false
Edit Fields Info: null
Ownership Based AccessControl For Rasters: null
Child Resources:
Info
Histograms
Statistics
Key Properties
Legend
Raster Function Infos
Supported Operations:
Export Image
Identify
Measure
Compute Histograms
Compute Statistics Histograms
Get Samples
Compute Class Statistics
Query Boundary
Compute Pixel Location
Compute Angles
Validate
Project