View In:
ArcGIS JavaScript
ArcGIS Online Map Viewer
ArcGIS Earth
ArcMap
View Footprint In:
ArcGIS Online Map Viewer
Service Description: FrontRunner/WoodsCross_RollPlot_20220224_jpg
Name: FrontRunner/WoodsCross_RollPlot_20220224_jpg
Description:
Single Fused Map Cache: false
Extent:
XMin: -1.2457650770582002E7
YMin: 4994682.266313264
XMax: -1.2454945048600074E7
YMax: 4999548.604972584
Spatial Reference: 102100
(3857)
Initial Extent:
XMin: -1.2457650770582002E7
YMin: 4994682.266313264
XMax: -1.2454945048600074E7
YMax: 4999548.604972584
Spatial Reference: 102100
(3857)
Full Extent:
XMin: -1.2457650770582002E7
YMin: 4994682.266313264
XMax: -1.2454945048600074E7
YMax: 4999548.604972584
Spatial Reference: 102100
(3857)
Pixel Size X: 0.07515894394243756
Pixel Size Y: 0.6756926769397427
Band Count: 3
Pixel Type: U8
RasterFunction Infos: {"rasterFunctionInfos": [{
"name": "None",
"description": "",
"help": ""
}]}
Mensuration Capabilities: Basic
Has Histograms: true
Has Colormap: false
Has Multi Dimensions : false
Rendering Rule:
Min Scale: 0
Max Scale: 0
Copyright Text:
Service Data Type: esriImageServiceDataTypeRGB
Min Values: 0, 0, 0
Max Values: 255, 255, 255
Mean Values: 233.0294530647, 231.89723086181, 229.70100810343
Standard Deviation Values: 46.144469098821, 46.993515224273, 48.464243932174
Object ID Field:
Fields:
None
Default Mosaic Method: Center
Allowed Mosaic Methods:
SortField:
SortValue: null
Mosaic Operator: First
Default Compression Quality: 75
Default Resampling Method: Bilinear
Max Record Count: null
Max Image Height: 4100
Max Image Width: 15000
Max Download Image Count: null
Max Mosaic Image Count: null
Allow Raster Function: true
Allow Copy: true
Allow Analysis: true
Allow Compute TiePoints: false
Supports Statistics: false
Supports Advanced Queries: false
Use StandardizedQueries: true
Raster Type Infos:
Name: Raster Dataset
Description: Supports all ArcGIS Raster Datasets
Help:
Has Raster Attribute Table: false
Edit Fields Info: null
Ownership Based AccessControl For Rasters: null
Child Resources:
Info
Histograms
Statistics
Key Properties
Legend
Raster Function Infos
Supported Operations:
Export Image
Identify
Measure
Compute Histograms
Compute Statistics Histograms
Get Samples
Compute Class Statistics
Query Boundary
Compute Pixel Location
Compute Angles
Validate
Project