View In:
ArcGIS JavaScript
ArcGIS Online Map Viewer
ArcGIS Earth
ArcMap
View Footprint In:
ArcGIS Online Map Viewer
Service Description: IBR/IBR_Roll_Plot_20220912
Name: IBR/IBR_Roll_Plot_20220912
Description:
Single Fused Map Cache: false
Extent:
XMin: -1.3660073630511446E7
YMin: 5713071.965209712
XMax: -1.3650989569344027E7
YMax: 5726731.794708746
Spatial Reference: 102100
(3857)
Initial Extent:
XMin: -1.3660073630511446E7
YMin: 5713071.965209712
XMax: -1.3650989569344027E7
YMax: 5726731.794708746
Spatial Reference: 102100
(3857)
Full Extent:
XMin: -1.3660073630511446E7
YMin: 5713071.965209712
XMax: -1.3650989569344027E7
YMax: 5726731.794708746
Spatial Reference: 102100
(3857)
Pixel Size X: 0.4242311291000307
Pixel Size Y: 1.7359041172999465
Band Count: 3
Pixel Type: U8
RasterFunction Infos: {"rasterFunctionInfos": [{
"name": "None",
"description": "",
"help": ""
}]}
Mensuration Capabilities: Basic
Has Histograms: true
Has Colormap: false
Has Multi Dimensions : false
Rendering Rule:
Min Scale: 0
Max Scale: 0
Copyright Text:
Service Data Type: esriImageServiceDataTypeRGB
Min Values: 0, 0, 0
Max Values: 255, 255, 255
Mean Values: 93.634973153502, 96.060262026524, 94.192040663625
Standard Deviation Values: 103.83171828731, 105.51177371568, 103.91147935861
Object ID Field:
Fields:
None
Default Mosaic Method: Center
Allowed Mosaic Methods:
SortField:
SortValue: null
Mosaic Operator: First
Default Compression Quality: 75
Default Resampling Method: Bilinear
Max Record Count: null
Max Image Height: 4100
Max Image Width: 15000
Max Download Image Count: null
Max Mosaic Image Count: null
Allow Raster Function: true
Allow Copy: true
Allow Analysis: true
Allow Compute TiePoints: false
Supports Statistics: false
Supports Advanced Queries: false
Use StandardizedQueries: true
Raster Type Infos:
Name: Raster Dataset
Description: Supports all ArcGIS Raster Datasets
Help:
Has Raster Attribute Table: false
Edit Fields Info: null
Ownership Based AccessControl For Rasters: null
Child Resources:
Info
Histograms
Statistics
Key Properties
Legend
Raster Function Infos
Supported Operations:
Export Image
Identify
Measure
Compute Histograms
Compute Statistics Histograms
Get Samples
Compute Class Statistics
Query Boundary
Compute Pixel Location
Compute Angles
Validate
Project