View In:
ArcGIS JavaScript
ArcGIS Online Map Viewer
ArcGIS Earth
ArcMap
View Footprint In:
ArcGIS Online Map Viewer
Service Description: LGR/Alterntive_2_Alt_2_Inundation__11_900_cfs_WGS84
Name: LGR/Alterntive_2_Alt_2_Inundation__11_900_cfs_WGS84
Description:
Single Fused Map Cache: false
Extent:
XMin: -1.3612604523509849E7
YMin: 5990449.549798208
XMax: -1.3602847855996514E7
YMax: 6020717.164733438
Spatial Reference: 102100
(3857)
Initial Extent:
XMin: -1.3612604523509849E7
YMin: 5990449.549798208
XMax: -1.3602847855996514E7
YMax: 6020717.164733438
Spatial Reference: 102100
(3857)
Full Extent:
XMin: -1.3612604523509849E7
YMin: 5990449.549798208
XMax: -1.3602847855996514E7
YMax: 6020717.164733438
Spatial Reference: 102100
(3857)
Pixel Size X: 0.9144018288036667
Pixel Size Y: 0.9144018288036474
Band Count: 1
Pixel Type: F32
RasterFunction Infos: {"rasterFunctionInfos": [{
"name": "None",
"description": "",
"help": ""
}]}
Mensuration Capabilities: Basic
Has Histograms: true
Has Colormap: false
Has Multi Dimensions : false
Rendering Rule:
Min Scale: 0
Max Scale: 0
Copyright Text:
Service Data Type: esriImageServiceDataTypeGeneric
Min Values: 0.0010013580322265625
Max Values: 30.415233612060547
Mean Values: 5.473634460306075
Standard Deviation Values: 5.9346302473466315
Object ID Field:
Fields:
None
Default Mosaic Method: Center
Allowed Mosaic Methods:
SortField:
SortValue: null
Mosaic Operator: First
Default Compression Quality: 75
Default Resampling Method: Bilinear
Max Record Count: null
Max Image Height: 4100
Max Image Width: 15000
Max Download Image Count: null
Max Mosaic Image Count: null
Allow Raster Function: true
Allow Copy: true
Allow Analysis: true
Allow Compute TiePoints: false
Supports Statistics: false
Supports Advanced Queries: false
Use StandardizedQueries: true
Raster Type Infos:
Name: Raster Dataset
Description: Supports all ArcGIS Raster Datasets
Help:
Has Raster Attribute Table: false
Edit Fields Info: null
Ownership Based AccessControl For Rasters: null
Child Resources:
Info
Histograms
Statistics
Key Properties
Legend
Raster Function Infos
Supported Operations:
Export Image
Identify
Measure
Compute Histograms
Compute Statistics Histograms
Get Samples
Compute Class Statistics
Query Boundary
Compute Pixel Location
Compute Angles
Validate
Project