View In:
ArcGIS JavaScript
ArcGIS Online Map Viewer
ArcGIS Earth
ArcMap
View Footprint In:
ArcGIS Online Map Viewer
Service Description: PDX405/241211_PDX405_OCRS_North_Cntl_ii_tif
Name: PDX405/241211_PDX405_OCRS_North_Cntl_ii_tif
Description:
Single Fused Map Cache: false
Extent:
XMin: 410744.29301264405
YMin: 297545.60518039495
XMax: 413847.182212644
YMax: 299411.0799803949
Spatial Reference: PROJCS["NAD_1983_2011_Oregon_North_Central_zone_ft",GEOGCS["GCS_NAD_1983_2011",DATUM["D_NAD_1983_2011",SPHEROID["GRS_1980",6378137.0,298.257222101]],PRIMEM["Greenwich",0.0],UNIT["Degree",0.0174532925199433]],PROJECTION["Lambert_Conformal_Conic"],PARAMETER["false_easting",328083.9895],PARAMETER["false_northing",459317.5853],PARAMETER["central_meridian",-120.3],PARAMETER["standard_parallel_1",46.1],PARAMETER["scale_factor",1.0],PARAMETER["latitude_of_origin",46.1],UNIT["Foot",0.3048]]
Initial Extent:
XMin: 410744.29301264405
YMin: 297545.60518039495
XMax: 413847.182212644
YMax: 299411.0799803949
Spatial Reference: PROJCS["NAD_1983_2011_Oregon_North_Central_zone_ft",GEOGCS["GCS_NAD_1983_2011",DATUM["D_NAD_1983_2011",SPHEROID["GRS_1980",6378137.0,298.257222101]],PRIMEM["Greenwich",0.0],UNIT["Degree",0.0174532925199433]],PROJECTION["Lambert_Conformal_Conic"],PARAMETER["false_easting",328083.9895],PARAMETER["false_northing",459317.5853],PARAMETER["central_meridian",-120.3],PARAMETER["standard_parallel_1",46.1],PARAMETER["scale_factor",1.0],PARAMETER["latitude_of_origin",46.1],UNIT["Foot",0.3048]]
Full Extent:
XMin: 410744.29301264405
YMin: 297545.60518039495
XMax: 413847.182212644
YMax: 299411.0799803949
Spatial Reference: PROJCS["NAD_1983_2011_Oregon_North_Central_zone_ft",GEOGCS["GCS_NAD_1983_2011",DATUM["D_NAD_1983_2011",SPHEROID["GRS_1980",6378137.0,298.257222101]],PRIMEM["Greenwich",0.0],UNIT["Degree",0.0174532925199433]],PROJECTION["Lambert_Conformal_Conic"],PARAMETER["false_easting",328083.9895],PARAMETER["false_northing",459317.5853],PARAMETER["central_meridian",-120.3],PARAMETER["standard_parallel_1",46.1],PARAMETER["scale_factor",1.0],PARAMETER["latitude_of_origin",46.1],UNIT["Foot",0.3048]]
Pixel Size X: 0.06979999999999946
Pixel Size Y: 0.06979999999999878
Band Count: 3
Pixel Type: U8
RasterFunction Infos: {"rasterFunctionInfos": [{
"name": "None",
"description": "",
"help": ""
}]}
Mensuration Capabilities: Basic
Has Histograms: false
Has Colormap: false
Has Multi Dimensions : false
Rendering Rule:
Min Scale: 0
Max Scale: 0
Copyright Text:
Service Data Type: esriImageServiceDataTypeRGB
Min Values: N/A
Max Values: N/A
Mean Values: N/A
Standard Deviation Values: N/A
Object ID Field:
Fields:
None
Default Mosaic Method: Center
Allowed Mosaic Methods:
SortField:
SortValue: null
Mosaic Operator: First
Default Compression Quality: 75
Default Resampling Method: Bilinear
Max Record Count: null
Max Image Height: 4100
Max Image Width: 15000
Max Download Image Count: null
Max Mosaic Image Count: null
Allow Raster Function: true
Allow Copy: true
Allow Analysis: true
Allow Compute TiePoints: false
Supports Statistics: false
Supports Advanced Queries: false
Use StandardizedQueries: true
Raster Type Infos:
Name: Raster Dataset
Description: Supports all ArcGIS Raster Datasets
Help:
Has Raster Attribute Table: false
Edit Fields Info: null
Ownership Based AccessControl For Rasters: null
Child Resources:
Info
Statistics
Key Properties
Legend
Raster Function Infos
Supported Operations:
Export Image
Identify
Measure
Compute Histograms
Compute Statistics Histograms
Get Samples
Compute Class Statistics
Query Boundary
Compute Pixel Location
Compute Angles
Validate
Project