View In:
ArcGIS JavaScript
ArcGIS Online Map Viewer
ArcGIS Earth
ArcMap
View Footprint In:
ArcGIS Online Map Viewer
Service Description: C730_Sheets_308_to_321 (loaded 8.13.2020)
Name: ST_Stormwater/C730_Sheets_308_to_321
Description: C730_Sheets_308_to_321 (loaded 8.13.2020)
Single Fused Map Cache: false
Extent:
XMin: 1278848.5566738883
YMin: 206528.6445531924
XMax: 1280691.3169812718
YMax: 212465.2434792042
Spatial Reference: 103180
(6597)
Initial Extent:
XMin: 1278848.5566738883
YMin: 206528.6445531924
XMax: 1280691.3169812718
YMax: 212465.2434792042
Spatial Reference: 103180
(6597)
Full Extent:
XMin: 1278848.5566738883
YMin: 206528.6445531924
XMax: 1280691.3169812718
YMax: 212465.2434792042
Spatial Reference: 103180
(6597)
Pixel Size X: 0.20798649067533756
Pixel Size Y: 0.15313537096014118
Band Count: 4
Pixel Type: U8
RasterFunction Infos: {"rasterFunctionInfos": [{
"name": "None",
"description": "",
"help": ""
}]}
Mensuration Capabilities: Basic
Has Histograms: true
Has Colormap: false
Has Multi Dimensions : false
Rendering Rule:
Min Scale: 0
Max Scale: 0
Copyright Text:
Service Data Type: esriImageServiceDataTypeGeneric
Min Values: 0, 0, 0, 0
Max Values: 255, 255, 255, 255
Mean Values: 246.57151165974045, 246.32175847721678, 246.32175847721678, 9.071015607643831
Standard Deviation Values: 41.97479481390415, 42.702906958016754, 42.702906958016754, 43.48321760752111
Object ID Field:
Fields:
None
Default Mosaic Method: Center
Allowed Mosaic Methods:
SortField:
SortValue: null
Mosaic Operator: First
Default Compression Quality: 75
Default Resampling Method: Bilinear
Max Record Count: null
Max Image Height: 4100
Max Image Width: 15000
Max Download Image Count: null
Max Mosaic Image Count: null
Allow Raster Function: true
Allow Copy: null
Allow Analysis: null
Allow Compute TiePoints: false
Supports Statistics: false
Supports Advanced Queries: false
Use StandardizedQueries: true
Raster Type Infos:
Name: Raster Dataset
Description: Supports all ArcGIS Raster Datasets
Help:
Has Raster Attribute Table: false
Edit Fields Info: null
Ownership Based AccessControl For Rasters: null
Child Resources:
Info
Histograms
Key Properties
Legend
Raster Function Infos
Supported Operations:
Export Image
Identify
Measure
Compute Histograms
Compute Statistics Histograms
Get Samples
Compute Class Statistics
Query Boundary
Compute Pixel Location
Compute Angles
Validate
Project