View In:
ArcGIS JavaScript
ArcGIS Online Map Viewer
ArcGIS Earth
ArcMap
View Footprint In:
ArcGIS Online Map Viewer
Service Description: ST_Stormwater/C730_Sheets_323_to_334
Name: ST_Stormwater/C730_Sheets_323_to_334
Description:
Single Fused Map Cache: false
Extent:
XMin: 1280151.200601777
YMin: 201319.6752937563
XMax: 1282317.954241216
YMax: 206738.83828919387
Spatial Reference: 103180
(6597)
Initial Extent:
XMin: 1280151.200601777
YMin: 201319.6752937563
XMax: 1282317.954241216
YMax: 206738.83828919387
Spatial Reference: 103180
(6597)
Full Extent:
XMin: 1280151.200601777
YMin: 201319.6752937563
XMax: 1282317.954241216
YMax: 206738.83828919387
Spatial Reference: 103180
(6597)
Pixel Size X: 0.1901828876888342
Pixel Size Y: 0.14908288845770476
Band Count: 4
Pixel Type: U8
RasterFunction Infos: {"rasterFunctionInfos": [{
"name": "None",
"description": "",
"help": ""
}]}
Mensuration Capabilities: Basic
Has Histograms: true
Has Colormap: false
Has Multi Dimensions : false
Rendering Rule:
Min Scale: 0
Max Scale: 0
Copyright Text:
Service Data Type: esriImageServiceDataTypeGeneric
Min Values: 0, 0, 0, 0
Max Values: 255, 255, 255, 255
Mean Values: 242.0770267318476, 241.84945758689625, 241.84945758689625, 13.986743453039946
Standard Deviation Values: 51.09216668702702, 51.60050312007852, 51.60050312007852, 53.35394061668739
Object ID Field:
Fields:
None
Default Mosaic Method: Center
Allowed Mosaic Methods:
SortField:
SortValue: null
Mosaic Operator: First
Default Compression Quality: 75
Default Resampling Method: Bilinear
Max Record Count: null
Max Image Height: 4100
Max Image Width: 15000
Max Download Image Count: null
Max Mosaic Image Count: null
Allow Raster Function: true
Allow Copy: null
Allow Analysis: null
Allow Compute TiePoints: false
Supports Statistics: false
Supports Advanced Queries: false
Use StandardizedQueries: true
Raster Type Infos:
Name: Raster Dataset
Description: Supports all ArcGIS Raster Datasets
Help:
Has Raster Attribute Table: false
Edit Fields Info: null
Ownership Based AccessControl For Rasters: null
Child Resources:
Info
Histograms
Key Properties
Legend
Raster Function Infos
Supported Operations:
Export Image
Identify
Measure
Compute Histograms
Compute Statistics Histograms
Get Samples
Compute Class Statistics
Query Boundary
Compute Pixel Location
Compute Angles
Validate
Project