View In:
ArcGIS JavaScript
ArcGIS Online Map Viewer
ArcGIS Earth
ArcMap
View Footprint In:
ArcGIS Online Map Viewer
Service Description: Swalley/Swalley_2019_WGSc
Name: Swalley/Swalley_2019_WGSc
Description:
Single Fused Map Cache: false
Extent:
XMin: -1.3508104249065591E7
YMin: 5474563.758809371
XMax: -1.3493006285865592E7
YMax: 5508583.706009371
Spatial Reference: 102100
(3857)
Initial Extent:
XMin: -1.3508104249065591E7
YMin: 5474563.758809371
XMax: -1.3493006285865592E7
YMax: 5508583.706009371
Spatial Reference: 102100
(3857)
Full Extent:
XMin: -1.3508104249065591E7
YMin: 5474563.758809371
XMax: -1.3493006285865592E7
YMax: 5508583.706009371
Spatial Reference: 102100
(3857)
Pixel Size X: 0.6095999999999671
Pixel Size Y: 0.6096000000000051
Band Count: 3
Pixel Type: U8
RasterFunction Infos: {"rasterFunctionInfos": [{
"name": "None",
"description": "",
"help": ""
}]}
Mensuration Capabilities: Basic
Has Histograms: true
Has Colormap: false
Has Multi Dimensions : false
Rendering Rule:
Min Scale: 0
Max Scale: 0
Copyright Text:
Service Data Type: esriImageServiceDataTypeRGB
Min Values: 0, 0, 0
Max Values: 255, 255, 255
Mean Values: 52.563187246977, 92.624416658191, 92.522509912785
Standard Deviation Values: 60.460732837418, 90.486167558678, 86.905193910811
Object ID Field:
Fields:
None
Default Mosaic Method: Center
Allowed Mosaic Methods:
SortField:
SortValue: null
Mosaic Operator: First
Default Compression Quality: 75
Default Resampling Method: Bilinear
Max Record Count: null
Max Image Height: 4100
Max Image Width: 15000
Max Download Image Count: null
Max Mosaic Image Count: null
Allow Raster Function: true
Allow Copy: null
Allow Analysis: null
Allow Compute TiePoints: false
Supports Statistics: false
Supports Advanced Queries: false
Use StandardizedQueries: true
Raster Type Infos:
Name: Raster Dataset
Description: Supports all ArcGIS Raster Datasets
Help:
Has Raster Attribute Table: false
Edit Fields Info: null
Ownership Based AccessControl For Rasters: null
Child Resources:
Info
Histograms
Key Properties
Legend
Raster Function Infos
Supported Operations:
Export Image
Identify
Measure
Compute Histograms
Compute Statistics Histograms
Get Samples
Compute Class Statistics
Query Boundary
Compute Pixel Location
Compute Angles
Validate
Project