View In:
ArcGIS JavaScript
ArcGIS Online Map Viewer
ArcGIS Earth
ArcMap
View Footprint In:
ArcGIS Online Map Viewer
Service Description: Swalley/Swalley_2020_WGSc
Name: Swalley/Swalley_2020_WGSc
Description:
Single Fused Map Cache: false
Extent:
XMin: -1.350805229408725E7
YMin: 5474345.942436235
XMax: -1.3492826314887254E7
YMax: 5508613.387236237
Spatial Reference: 102100
(3857)
Initial Extent:
XMin: -1.350805229408725E7
YMin: 5474345.942436235
XMax: -1.3492826314887254E7
YMax: 5508613.387236237
Spatial Reference: 102100
(3857)
Full Extent:
XMin: -1.350805229408725E7
YMin: 5474345.942436235
XMax: -1.3492826314887254E7
YMax: 5508613.387236237
Spatial Reference: 102100
(3857)
Pixel Size X: 0.6095999999998486
Pixel Size Y: 0.6096000000000279
Band Count: 4
Pixel Type: U8
RasterFunction Infos: {"rasterFunctionInfos": [{
"name": "None",
"description": "",
"help": ""
}]}
Mensuration Capabilities: Basic
Has Histograms: true
Has Colormap: false
Has Multi Dimensions : false
Rendering Rule:
Min Scale: 0
Max Scale: 0
Copyright Text:
Service Data Type: esriImageServiceDataTypeGeneric
Min Values: 0, 0, 0, 0
Max Values: 255, 243, 225, 255
Mean Values: 118.54248608534, 124.51948051948, 120.89684601113, 207.82578849722
Standard Deviation Values: 62.759398280127, 65.27179006154, 60.448731165462, 96.991026702174
Object ID Field:
Fields:
None
Default Mosaic Method: Center
Allowed Mosaic Methods:
SortField:
SortValue: null
Mosaic Operator: First
Default Compression Quality: 75
Default Resampling Method: Bilinear
Max Record Count: null
Max Image Height: 4100
Max Image Width: 15000
Max Download Image Count: null
Max Mosaic Image Count: null
Allow Raster Function: true
Allow Copy: null
Allow Analysis: null
Allow Compute TiePoints: false
Supports Statistics: false
Supports Advanced Queries: false
Use StandardizedQueries: true
Raster Type Infos:
Name: Raster Dataset
Description: Supports all ArcGIS Raster Datasets
Help:
Has Raster Attribute Table: false
Edit Fields Info: null
Ownership Based AccessControl For Rasters: null
Child Resources:
Info
Histograms
Key Properties
Legend
Raster Function Infos
Supported Operations:
Export Image
Identify
Measure
Compute Histograms
Compute Statistics Histograms
Get Samples
Compute Class Statistics
Query Boundary
Compute Pixel Location
Compute Angles
Validate
Project