View In:
ArcGIS JavaScript
ArcGIS Online Map Viewer
ArcGIS Earth
ArcMap
View Footprint In:
ArcGIS Online Map Viewer
Service Description: TDLE/Rollplot_SF_I5
Name: TDLE/Rollplot_SF_I5
Description:
Single Fused Map Cache: false
Extent:
XMin: 1266445.1912215888
YMin: 96535.91560347876
XMax: 1279057.697899819
YMax: 119049.51916468935
Spatial Reference: 103180
(6597)
Initial Extent:
XMin: 1266445.1912215888
YMin: 96535.91560347876
XMax: 1279057.697899819
YMax: 119049.51916468935
Spatial Reference: 103180
(6597)
Full Extent:
XMin: 1266445.1912215888
YMin: 96535.91560347876
XMax: 1279057.697899819
YMax: 119049.51916468935
Spatial Reference: 103180
(6597)
Pixel Size X: 4.056772813840505
Pixel Size Y: 1.3236288765483328
Band Count: 3
Pixel Type: U8
RasterFunction Infos: {"rasterFunctionInfos": [{
"name": "None",
"description": "",
"help": ""
}]}
Mensuration Capabilities: Basic
Has Histograms: false
Has Colormap: false
Has Multi Dimensions : false
Rendering Rule:
Min Scale: 0
Max Scale: 0
Copyright Text:
Service Data Type: esriImageServiceDataTypeRGB
Min Values: N/A
Max Values: N/A
Mean Values: N/A
Standard Deviation Values: N/A
Object ID Field:
Fields:
None
Default Mosaic Method: Center
Allowed Mosaic Methods:
SortField:
SortValue: null
Mosaic Operator: First
Default Compression Quality: 75
Default Resampling Method: Bilinear
Max Record Count: null
Max Image Height: 4100
Max Image Width: 15000
Max Download Image Count: null
Max Mosaic Image Count: null
Allow Raster Function: true
Allow Copy: null
Allow Analysis: null
Allow Compute TiePoints: false
Supports Statistics: false
Supports Advanced Queries: false
Use StandardizedQueries: true
Raster Type Infos:
Name: Raster Dataset
Description: Supports all ArcGIS Raster Datasets
Help:
Has Raster Attribute Table: false
Edit Fields Info: null
Ownership Based AccessControl For Rasters: null
Child Resources:
Info
Key Properties
Legend
Raster Function Infos
Supported Operations:
Export Image
Identify
Measure
Compute Histograms
Compute Statistics Histograms
Get Samples
Compute Class Statistics
Query Boundary
Compute Pixel Location
Compute Angles
Validate
Project