View In:
ArcGIS JavaScript
ArcGIS Online Map Viewer
ArcGIS Earth
ArcMap
View Footprint In:
ArcGIS Online Map Viewer
Service Description: TDLE/TacomaDome_25E_Station
Name: TDLE/TacomaDome_25E_Station
Description:
Single Fused Map Cache: false
Extent:
XMin: 1244621.960327894
YMin: 91235.77910576711
XMax: 1246292.011878737
YMax: 92258.27149721188
Spatial Reference: 103180
(6597)
Initial Extent:
XMin: 1244621.960327894
YMin: 91235.77910576711
XMax: 1246292.011878737
YMax: 92258.27149721188
Spatial Reference: 103180
(6597)
Full Extent:
XMin: 1244621.960327894
YMin: 91235.77910576711
XMax: 1246292.011878737
YMax: 92258.27149721188
Spatial Reference: 103180
(6597)
Pixel Size X: 0.3512939736733392
Pixel Size Y: 0.4132952269380646
Band Count: 3
Pixel Type: U8
RasterFunction Infos: {"rasterFunctionInfos": [{
"name": "None",
"description": "",
"help": ""
}]}
Mensuration Capabilities: Basic
Has Histograms: true
Has Colormap: false
Has Multi Dimensions : false
Rendering Rule:
Min Scale: 0
Max Scale: 0
Copyright Text:
Service Data Type: esriImageServiceDataTypeRGB
Min Values: 0, 0, 0
Max Values: 255, 255, 255
Mean Values: 228.24236799529, 226.25414015475, 221.9117680882
Standard Deviation Values: 38.409499351969, 47.786628735429, 46.88620661305
Object ID Field:
Fields:
None
Default Mosaic Method: Center
Allowed Mosaic Methods:
SortField:
SortValue: null
Mosaic Operator: First
Default Compression Quality: 75
Default Resampling Method: Bilinear
Max Record Count: null
Max Image Height: 4100
Max Image Width: 15000
Max Download Image Count: null
Max Mosaic Image Count: null
Allow Raster Function: true
Allow Copy: null
Allow Analysis: null
Allow Compute TiePoints: false
Supports Statistics: false
Supports Advanced Queries: false
Use StandardizedQueries: true
Raster Type Infos:
Name: Raster Dataset
Description: Supports all ArcGIS Raster Datasets
Help:
Has Raster Attribute Table: false
Edit Fields Info: null
Ownership Based AccessControl For Rasters: null
Child Resources:
Info
Histograms
Key Properties
Legend
Raster Function Infos
Supported Operations:
Export Image
Identify
Measure
Compute Histograms
Compute Statistics Histograms
Get Samples
Compute Class Statistics
Query Boundary
Compute Pixel Location
Compute Angles
Validate
Project