View In:
ArcGIS JavaScript
ArcGIS Online Map Viewer
ArcGIS Earth
ArcMap
View Footprint In:
ArcGIS Online Map Viewer
Service Description: Tumalo/Imagery_2019_WGS
Name: Tumalo/Imagery_2019_WGS
Description:
Single Fused Map Cache: false
Extent:
XMin: -1.352088053585882E7
YMin: 5476293.957224596
XMax: -1.3499471383858819E7
YMax: 5503127.330024596
Spatial Reference: 102100
(3857)
Initial Extent:
XMin: -1.352088053585882E7
YMin: 5476293.957224596
XMax: -1.3499471383858819E7
YMax: 5503127.330024596
Spatial Reference: 102100
(3857)
Full Extent:
XMin: -1.352088053585882E7
YMin: 5476293.957224596
XMax: -1.3499471383858819E7
YMax: 5503127.330024596
Spatial Reference: 102100
(3857)
Pixel Size X: 0.6096000000000199
Pixel Size Y: 0.6096000000000003
Band Count: 3
Pixel Type: U8
RasterFunction Infos: {"rasterFunctionInfos": [{
"name": "None",
"description": "",
"help": ""
}]}
Mensuration Capabilities: Basic
Has Histograms: true
Has Colormap: false
Has Multi Dimensions : false
Rendering Rule:
Min Scale: 0
Max Scale: 0
Copyright Text:
Service Data Type: esriImageServiceDataTypeRGB
Min Values: 0, 0, 0
Max Values: 255, 255, 255
Mean Values: 112.53090587888, 110.71631291315, 97.937617055153
Standard Deviation Values: 84.528638845942, 77.876336891629, 68.466135212318
Object ID Field:
Fields:
None
Default Mosaic Method: Center
Allowed Mosaic Methods:
SortField:
SortValue: null
Mosaic Operator: First
Default Compression Quality: 75
Default Resampling Method: Bilinear
Max Record Count: null
Max Image Height: 4100
Max Image Width: 15000
Max Download Image Count: null
Max Mosaic Image Count: null
Allow Raster Function: true
Allow Copy: null
Allow Analysis: null
Allow Compute TiePoints: false
Supports Statistics: false
Supports Advanced Queries: false
Use StandardizedQueries: true
Raster Type Infos:
Name: Raster Dataset
Description: Supports all ArcGIS Raster Datasets
Help:
Has Raster Attribute Table: false
Edit Fields Info: null
Ownership Based AccessControl For Rasters: null
Child Resources:
Info
Histograms
Key Properties
Legend
Raster Function Infos
Supported Operations:
Export Image
Identify
Measure
Compute Histograms
Compute Statistics Histograms
Get Samples
Compute Class Statistics
Query Boundary
Compute Pixel Location
Compute Angles
Validate
Project