View In:
ArcGIS JavaScript
ArcGIS Online Map Viewer
ArcGIS Earth
ArcMap
View Footprint In:
ArcGIS Online Map Viewer
Service Description: TID 2020 aerial photo
Name: Tumalo/TID_2020_WGS
Description: TID 2020 aerial photo
Single Fused Map Cache: false
Extent:
XMin: -1.352085771113769E7
YMin: 5476238.051058911
XMax: -1.349956621193769E7
YMax: 5503061.67025891
Spatial Reference: 102100
(3857)
Initial Extent:
XMin: -1.352085771113769E7
YMin: 5476238.051058911
XMax: -1.349956621193769E7
YMax: 5503061.67025891
Spatial Reference: 102100
(3857)
Full Extent:
XMin: -1.352085771113769E7
YMin: 5476238.051058911
XMax: -1.349956621193769E7
YMax: 5503061.67025891
Spatial Reference: 102100
(3857)
Pixel Size X: 0.6095999999999856
Pixel Size Y: 0.6095999999999911
Band Count: 4
Pixel Type: U8
RasterFunction Infos: {"rasterFunctionInfos": [{
"name": "None",
"description": "",
"help": ""
}]}
Mensuration Capabilities: Basic
Has Histograms: true
Has Colormap: false
Has Multi Dimensions : false
Rendering Rule:
Min Scale: 0
Max Scale: 0
Copyright Text:
Service Data Type: esriImageServiceDataTypeGeneric
Min Values: 0, 0, 0, 0
Max Values: 253, 249, 242, 255
Mean Values: 126.22227839569, 121.7499157398, 108.63094034378, 209.27772160431
Standard Deviation Values: 65.547549634033, 60.188571322043, 53.842887945368, 96.233219543882
Object ID Field:
Fields:
None
Default Mosaic Method: Center
Allowed Mosaic Methods:
SortField:
SortValue: null
Mosaic Operator: First
Default Compression Quality: 75
Default Resampling Method: Bilinear
Max Record Count: null
Max Image Height: 4100
Max Image Width: 15000
Max Download Image Count: null
Max Mosaic Image Count: null
Allow Raster Function: true
Allow Copy: null
Allow Analysis: null
Allow Compute TiePoints: false
Supports Statistics: false
Supports Advanced Queries: false
Use StandardizedQueries: true
Raster Type Infos:
Name: Raster Dataset
Description: Supports all ArcGIS Raster Datasets
Help:
Has Raster Attribute Table: false
Edit Fields Info: null
Ownership Based AccessControl For Rasters: null
Child Resources:
Info
Histograms
Key Properties
Legend
Raster Function Infos
Supported Operations:
Export Image
Identify
Measure
Compute Histograms
Compute Statistics Histograms
Get Samples
Compute Class Statistics
Query Boundary
Compute Pixel Location
Compute Angles
Validate
Project