View In:
ArcGIS JavaScript
ArcGIS Online Map Viewer
ArcGIS Earth
ArcMap
View Footprint In:
ArcGIS Online Map Viewer
Service Description: HoustonRd_Aerial_jpg
Name: HoustonRd_Aerial_jpg
Description:
Single Fused Map Cache: false
Extent:
XMin: 4816270.106480096
YMin: 956740.9362094739
XMax: 4822735.836467518
YMax: 961737.4098423402
Spatial Reference: 2270
(2270)
Initial Extent:
XMin: 4816270.106480096
YMin: 956740.9362094739
XMax: 4822735.836467518
YMax: 961737.4098423402
Spatial Reference: 2270
(2270)
Full Extent:
XMin: 4816270.106480096
YMin: 956740.9362094739
XMax: 4822735.836467518
YMax: 961737.4098423402
Spatial Reference: 2270
(2270)
Pixel Size X: 1.4694840880504556
Pixel Size Y: 1.4695510684900834
Band Count: 3
Pixel Type: U8
RasterFunction Infos: {"rasterFunctionInfos": [{
"name": "None",
"description": "",
"help": ""
}]}
Mensuration Capabilities: Basic
Has Histograms: false
Has Colormap: false
Has Multi Dimensions : false
Rendering Rule:
Min Scale: 0
Max Scale: 0
Copyright Text:
Service Data Type: esriImageServiceDataTypeRGB
Min Values: N/A
Max Values: N/A
Mean Values: N/A
Standard Deviation Values: N/A
Object ID Field:
Fields:
None
Default Mosaic Method: Center
Allowed Mosaic Methods:
SortField:
SortValue: null
Mosaic Operator: First
Default Compression Quality: 75
Default Resampling Method: Bilinear
Max Record Count: null
Max Image Height: 4100
Max Image Width: 15000
Max Download Image Count: null
Max Mosaic Image Count: null
Allow Raster Function: true
Allow Copy: true
Allow Analysis: true
Allow Compute TiePoints: false
Supports Statistics: false
Supports Advanced Queries: false
Use StandardizedQueries: true
Raster Type Infos:
Name: Raster Dataset
Description: Supports all ArcGIS Raster Datasets
Help:
Has Raster Attribute Table: false
Edit Fields Info: null
Ownership Based AccessControl For Rasters: null
Child Resources:
Info
Statistics
Key Properties
Legend
Raster Function Infos
Supported Operations:
Export Image
Identify
Measure
Compute Histograms
Compute Statistics Histograms
Get Samples
Compute Class Statistics
Query Boundary
Compute Pixel Location
Compute Angles
Validate
Project