View In:
ArcGIS JavaScript
ArcGIS Online Map Viewer
ArcGIS Earth
ArcMap
View Footprint In:
ArcGIS Online Map Viewer
Service Description: IBR/Ruby_Junction_Alt2_20230109_tif
Name: IBR/Ruby_Junction_Alt2_20230109_tif
Description:
Single Fused Map Cache: false
Extent:
XMin: -122.46054619165179
YMin: 45.508599495686596
XMax: -122.45456376992638
YMax: 45.51810198172554
Spatial Reference: 4326
(4326)
Initial Extent:
XMin: -122.46054619165179
YMin: 45.508599495686596
XMax: -122.45456376992638
YMax: 45.51810198172554
Spatial Reference: 4326
(4326)
Full Extent:
XMin: -122.46054619165179
YMin: 45.508599495686596
XMax: -122.45456376992638
YMax: 45.51810198172554
Spatial Reference: 4326
(4326)
Pixel Size X: 1.6004338484232434E-6
Pixel Size Y: 1.107128747401516E-6
Band Count: 3
Pixel Type: U8
RasterFunction Infos: {"rasterFunctionInfos": [{
"name": "None",
"description": "",
"help": ""
}]}
Mensuration Capabilities: Basic
Has Histograms: true
Has Colormap: false
Has Multi Dimensions : false
Rendering Rule:
Min Scale: 0
Max Scale: 0
Copyright Text:
Service Data Type: esriImageServiceDataTypeRGB
Min Values: 0, 0, 0
Max Values: 255, 255, 255
Mean Values: 203.05862693981, 203.05862684629, 203.05862687747
Standard Deviation Values: 100.03657026414, 100.03657043884, 100.03657038289
Object ID Field:
Fields:
None
Default Mosaic Method: Center
Allowed Mosaic Methods:
SortField:
SortValue: null
Mosaic Operator: First
Default Compression Quality: 75
Default Resampling Method: Bilinear
Max Record Count: null
Max Image Height: 4100
Max Image Width: 15000
Max Download Image Count: null
Max Mosaic Image Count: null
Allow Raster Function: true
Allow Copy: true
Allow Analysis: true
Allow Compute TiePoints: false
Supports Statistics: false
Supports Advanced Queries: false
Use StandardizedQueries: true
Raster Type Infos:
Name: Raster Dataset
Description: Supports all ArcGIS Raster Datasets
Help:
Has Raster Attribute Table: false
Edit Fields Info: null
Ownership Based AccessControl For Rasters: null
Child Resources:
Info
Histograms
Statistics
Key Properties
Legend
Raster Function Infos
Supported Operations:
Export Image
Identify
Measure
Compute Histograms
Compute Statistics Histograms
Get Samples
Compute Class Statistics
Query Boundary
Compute Pixel Location
Compute Angles
Validate
Project