View In:
ArcGIS JavaScript
ArcGIS Online Map Viewer
ArcGIS Earth
ArcMap
View Footprint In:
ArcGIS Online Map Viewer
Service Description: RedLine/Gateway_ROW_92020
Name: RedLine/Gateway_ROW_92020
Description:
Single Fused Map Cache: false
Extent:
XMin: 7672719.783186442
YMin: 686117.5217676089
XMax: 7674478.324833766
YMax: 690727.3038965912
Spatial Reference: 2269
(2269)
Initial Extent:
XMin: 7672719.783186442
YMin: 686117.5217676089
XMax: 7674478.324833766
YMax: 690727.3038965912
Spatial Reference: 2269
(2269)
Full Extent:
XMin: 7672719.783186442
YMin: 686117.5217676089
XMax: 7674478.324833766
YMax: 690727.3038965912
Spatial Reference: 2269
(2269)
Pixel Size X: 0.3451504705247119
Pixel Size Y: 0.20539955126240902
Band Count: 3
Pixel Type: U8
RasterFunction Infos: {"rasterFunctionInfos": [{
"name": "None",
"description": "",
"help": ""
}]}
Mensuration Capabilities: Basic
Has Histograms: true
Has Colormap: false
Has Multi Dimensions : false
Rendering Rule:
Min Scale: 0
Max Scale: 0
Copyright Text:
Service Data Type: esriImageServiceDataTypeRGB
Min Values: 0, 0, 0
Max Values: 255, 255, 255
Mean Values: 209.04794775234, 211.99277337601, 203.96848750724
Standard Deviation Values: 24.05316817708, 22.251199284675, 23.990427026177
Object ID Field:
Fields:
None
Default Mosaic Method: Center
Allowed Mosaic Methods:
SortField:
SortValue: null
Mosaic Operator: First
Default Compression Quality: 75
Default Resampling Method: Bilinear
Max Record Count: null
Max Image Height: 4100
Max Image Width: 15000
Max Download Image Count: null
Max Mosaic Image Count: null
Allow Raster Function: true
Allow Copy: null
Allow Analysis: null
Allow Compute TiePoints: false
Supports Statistics: false
Supports Advanced Queries: false
Use StandardizedQueries: true
Raster Type Infos:
Name: Raster Dataset
Description: Supports all ArcGIS Raster Datasets
Help:
Has Raster Attribute Table: false
Edit Fields Info: null
Ownership Based AccessControl For Rasters: null
Child Resources:
Info
Histograms
Key Properties
Legend
Raster Function Infos
Supported Operations:
Export Image
Identify
Measure
Compute Histograms
Compute Statistics Histograms
Get Samples
Compute Class Statistics
Query Boundary
Compute Pixel Location
Compute Angles
Validate
Project