View In:
ArcGIS JavaScript
ArcGIS Online Map Viewer
ArcGIS Earth
ArcMap
View Footprint In:
ArcGIS Online Map Viewer
Service Description: ST_Stormwater/C410_and_C430
Name: ST_Stormwater/C410_and_C430
Description:
Single Fused Map Cache: false
Extent:
XMin: 1277168.2809546946
YMin: 165582.86244696972
XMax: 1280537.8010270842
YMax: 173128.51401126423
Spatial Reference: 103180
(6597)
Initial Extent:
XMin: 1277168.2809546946
YMin: 165582.86244696972
XMax: 1280537.8010270842
YMax: 173128.51401126423
Spatial Reference: 103180
(6597)
Full Extent:
XMin: 1277168.2809546946
YMin: 165582.86244696972
XMax: 1280537.8010270842
YMax: 173128.51401126423
Spatial Reference: 103180
(6597)
Pixel Size X: 0.2958054668062178
Pixel Size Y: 0.14667414839721063
Band Count: 4
Pixel Type: U8
RasterFunction Infos: {"rasterFunctionInfos": [{
"name": "None",
"description": "",
"help": ""
}]}
Mensuration Capabilities: Basic
Has Histograms: true
Has Colormap: false
Has Multi Dimensions : false
Rendering Rule:
Min Scale: 0
Max Scale: 0
Copyright Text:
Service Data Type: esriImageServiceDataTypeGeneric
Min Values: 0, 0, 0, 0
Max Values: 255, 255, 255, 255
Mean Values: 245.4602818172982, 245.44550178369414, 245.44550178369414, 14.919614523058604
Standard Deviation Values: 41.74995696291783, 41.79190339187628, 41.79190339187628, 55.75278841443024
Object ID Field:
Fields:
None
Default Mosaic Method: Center
Allowed Mosaic Methods:
SortField:
SortValue: null
Mosaic Operator: First
Default Compression Quality: 75
Default Resampling Method: Bilinear
Max Record Count: null
Max Image Height: 4100
Max Image Width: 15000
Max Download Image Count: null
Max Mosaic Image Count: null
Allow Raster Function: true
Allow Copy: null
Allow Analysis: null
Allow Compute TiePoints: false
Supports Statistics: false
Supports Advanced Queries: false
Use StandardizedQueries: true
Raster Type Infos:
Name: Raster Dataset
Description: Supports all ArcGIS Raster Datasets
Help:
Has Raster Attribute Table: false
Edit Fields Info: null
Ownership Based AccessControl For Rasters: null
Child Resources:
Info
Histograms
Key Properties
Legend
Raster Function Infos
Supported Operations:
Export Image
Identify
Measure
Compute Histograms
Compute Statistics Histograms
Get Samples
Compute Class Statistics
Query Boundary
Compute Pixel Location
Compute Angles
Validate
Project