View In:
ArcGIS JavaScript
ArcGIS Online Map Viewer
ArcGIS Earth
ArcMap
View Footprint In:
ArcGIS Online Map Viewer
Service Description: C700 Shets 234 to 247 (loaded 8.13.2020)
Name: ST_Stormwater/C700_Sheets_234_to_247
Description: C700 Shets 234 to 247 (loaded 8.13.2020)
Single Fused Map Cache: false
Extent:
XMin: 1271308.3069051881
YMin: 213848.21531446493
XMax: 1273484.1625762489
YMax: 220316.60572809947
Spatial Reference: 103180
(6597)
Initial Extent:
XMin: 1271308.3069051881
YMin: 213848.21531446493
XMax: 1273484.1625762489
YMax: 220316.60572809947
Spatial Reference: 103180
(6597)
Full Extent:
XMin: 1271308.3069051881
YMin: 213848.21531446493
XMax: 1273484.1625762489
YMax: 220316.60572809947
Spatial Reference: 103180
(6597)
Pixel Size X: 0.06792332119188166
Pixel Size Y: 0.07087171343648486
Band Count: 4
Pixel Type: U8
RasterFunction Infos: {"rasterFunctionInfos": [{
"name": "None",
"description": "",
"help": ""
}]}
Mensuration Capabilities: Basic
Has Histograms: true
Has Colormap: false
Has Multi Dimensions : false
Rendering Rule:
Min Scale: 0
Max Scale: 0
Copyright Text:
Service Data Type: esriImageServiceDataTypeGeneric
Min Values: 0, 0, 0, 0
Max Values: 255, 255, 255, 255
Mean Values: 249.1159093552956, 249.0017313766016, 249.0017313766016, 7.226894638964227
Standard Deviation Values: 35.077365694748345, 35.47518251810796, 35.47518251810796, 40.80069709384233
Object ID Field:
Fields:
None
Default Mosaic Method: Center
Allowed Mosaic Methods:
SortField:
SortValue: null
Mosaic Operator: First
Default Compression Quality: 75
Default Resampling Method: Bilinear
Max Record Count: null
Max Image Height: 4100
Max Image Width: 15000
Max Download Image Count: null
Max Mosaic Image Count: null
Allow Raster Function: true
Allow Copy: null
Allow Analysis: null
Allow Compute TiePoints: false
Supports Statistics: false
Supports Advanced Queries: false
Use StandardizedQueries: true
Raster Type Infos:
Name: Raster Dataset
Description: Supports all ArcGIS Raster Datasets
Help:
Has Raster Attribute Table: false
Edit Fields Info: null
Ownership Based AccessControl For Rasters: null
Child Resources:
Info
Histograms
Key Properties
Legend
Raster Function Infos
Supported Operations:
Export Image
Identify
Measure
Compute Histograms
Compute Statistics Histograms
Get Samples
Compute Class Statistics
Query Boundary
Compute Pixel Location
Compute Angles
Validate
Project