View In:
ArcGIS JavaScript
ArcGIS Online Map Viewer
ArcGIS Earth
ArcMap
View Footprint In:
ArcGIS Online Map Viewer
Service Description: ST_Stormwater/C735_Sheets_66_to_68
Name: ST_Stormwater/C735_Sheets_66_to_68
Description:
Single Fused Map Cache: false
Extent:
XMin: 1278894.0819038346
YMin: 211719.08165135098
XMax: 1279392.6137402575
YMax: 213493.39781732645
Spatial Reference: 103180
(6597)
Initial Extent:
XMin: 1278894.0819038346
YMin: 211719.08165135098
XMax: 1279392.6137402575
YMax: 213493.39781732645
Spatial Reference: 103180
(6597)
Full Extent:
XMin: 1278894.0819038346
YMin: 211719.08165135098
XMax: 1279392.6137402575
YMax: 213493.39781732645
Spatial Reference: 103180
(6597)
Pixel Size X: 0.08862788203073045
Pixel Size Y: 0.2151990498454178
Band Count: 4
Pixel Type: U8
RasterFunction Infos: {"rasterFunctionInfos": [{
"name": "None",
"description": "",
"help": ""
}]}
Mensuration Capabilities: Basic
Has Histograms: true
Has Colormap: false
Has Multi Dimensions : false
Rendering Rule:
Min Scale: 0
Max Scale: 0
Copyright Text:
Service Data Type: esriImageServiceDataTypeGeneric
Min Values: 0, 0, 0, 0
Max Values: 255, 255, 255, 255
Mean Values: 239.5783209894919, 238.66267968738708, 238.64990968283456, 126.38514046084973
Standard Deviation Values: 53.71741944035255, 55.65649462801703, 55.58103810439984, 127.48516241854658
Object ID Field:
Fields:
None
Default Mosaic Method: Center
Allowed Mosaic Methods:
SortField:
SortValue: null
Mosaic Operator: First
Default Compression Quality: 75
Default Resampling Method: Bilinear
Max Record Count: null
Max Image Height: 4100
Max Image Width: 15000
Max Download Image Count: null
Max Mosaic Image Count: null
Allow Raster Function: true
Allow Copy: null
Allow Analysis: null
Allow Compute TiePoints: false
Supports Statistics: false
Supports Advanced Queries: false
Use StandardizedQueries: true
Raster Type Infos:
Name: Raster Dataset
Description: Supports all ArcGIS Raster Datasets
Help:
Has Raster Attribute Table: false
Edit Fields Info: null
Ownership Based AccessControl For Rasters: null
Child Resources:
Info
Histograms
Key Properties
Legend
Raster Function Infos
Supported Operations:
Export Image
Identify
Measure
Compute Histograms
Compute Statistics Histograms
Get Samples
Compute Class Statistics
Query Boundary
Compute Pixel Location
Compute Angles
Validate
Project