View In:
ArcGIS JavaScript
ArcGIS Online Map Viewer
ArcGIS Earth
ArcMap
View Footprint In:
ArcGIS Online Map Viewer
Service Description: ST_Stormwater/C740_Sheets_316_to_345
Name: ST_Stormwater/C740_Sheets_316_to_345
Description:
Single Fused Map Cache: false
Extent:
XMin: 1281888.9349453745
YMin: 189605.31936109316
XMax: 1283963.3964514586
YMax: 201641.30696852962
Spatial Reference: 103180
(6597)
Initial Extent:
XMin: 1281888.9349453745
YMin: 189605.31936109316
XMax: 1283963.3964514586
YMax: 201641.30696852962
Spatial Reference: 103180
(6597)
Full Extent:
XMin: 1281888.9349453745
YMin: 189605.31936109316
XMax: 1283963.3964514586
YMax: 201641.30696852962
Spatial Reference: 103180
(6597)
Pixel Size X: 0.353039738952361
Pixel Size Y: 0.13447429843846598
Band Count: 4
Pixel Type: U8
RasterFunction Infos: {"rasterFunctionInfos": [{
"name": "None",
"description": "",
"help": ""
}]}
Mensuration Capabilities: Basic
Has Histograms: true
Has Colormap: false
Has Multi Dimensions : false
Rendering Rule:
Min Scale: 0
Max Scale: 0
Copyright Text:
Service Data Type: esriImageServiceDataTypeGeneric
Min Values: 0, 0, 0, 0
Max Values: 255, 255, 255, 255
Mean Values: 243.37512463939316, 242.73675334715588, 242.73675334715588, 13.620368315153277
Standard Deviation Values: 48.18233825319247, 49.690770545764664, 49.690770545764664, 52.87927418725347
Object ID Field:
Fields:
None
Default Mosaic Method: Center
Allowed Mosaic Methods:
SortField:
SortValue: null
Mosaic Operator: First
Default Compression Quality: 75
Default Resampling Method: Bilinear
Max Record Count: null
Max Image Height: 4100
Max Image Width: 15000
Max Download Image Count: null
Max Mosaic Image Count: null
Allow Raster Function: true
Allow Copy: null
Allow Analysis: null
Allow Compute TiePoints: false
Supports Statistics: false
Supports Advanced Queries: false
Use StandardizedQueries: true
Raster Type Infos:
Name: Raster Dataset
Description: Supports all ArcGIS Raster Datasets
Help:
Has Raster Attribute Table: false
Edit Fields Info: null
Ownership Based AccessControl For Rasters: null
Child Resources:
Info
Histograms
Key Properties
Legend
Raster Function Infos
Supported Operations:
Export Image
Identify
Measure
Compute Histograms
Compute Statistics Histograms
Get Samples
Compute Class Statistics
Query Boundary
Compute Pixel Location
Compute Angles
Validate
Project