View In:
ArcGIS JavaScript
ArcGIS Online Map Viewer
ArcGIS Earth
ArcMap
View Footprint In:
ArcGIS Online Map Viewer
Service Description: ST_Stormwater/C755_Sheets_403_to_453
Name: ST_Stormwater/C755_Sheets_403_to_453
Description:
Single Fused Map Cache: false
Extent:
XMin: 1280193.718581269
YMin: 172195.01503583652
XMax: 1285523.666064526
YMax: 190222.0343821329
Spatial Reference: 103180
(6597)
Initial Extent:
XMin: 1280193.718581269
YMin: 172195.01503583652
XMax: 1285523.666064526
YMax: 190222.0343821329
Spatial Reference: 103180
(6597)
Full Extent:
XMin: 1280193.718581269
YMin: 172195.01503583652
XMax: 1285523.666064526
YMax: 190222.0343821329
Spatial Reference: 103180
(6597)
Pixel Size X: 0.3332675222445398
Pixel Size Y: 0.11402866271725565
Band Count: 4
Pixel Type: U8
RasterFunction Infos: {"rasterFunctionInfos": [{
"name": "None",
"description": "",
"help": ""
}]}
Mensuration Capabilities: Basic
Has Histograms: true
Has Colormap: false
Has Multi Dimensions : false
Rendering Rule:
Min Scale: 0
Max Scale: 0
Copyright Text:
Service Data Type: esriImageServiceDataTypeGeneric
Min Values: 0, 0, 0, 0
Max Values: 255, 255, 255, 255
Mean Values: 241.04592430820836, 240.24046892237874, 240.24046892237874, 18.478386968003573
Standard Deviation Values: 49.0886283345147, 50.91477290394104, 50.91477290394104, 59.86054292682783
Object ID Field:
Fields:
None
Default Mosaic Method: Center
Allowed Mosaic Methods:
SortField:
SortValue: null
Mosaic Operator: First
Default Compression Quality: 75
Default Resampling Method: Bilinear
Max Record Count: null
Max Image Height: 4100
Max Image Width: 15000
Max Download Image Count: null
Max Mosaic Image Count: null
Allow Raster Function: true
Allow Copy: null
Allow Analysis: null
Allow Compute TiePoints: false
Supports Statistics: false
Supports Advanced Queries: false
Use StandardizedQueries: true
Raster Type Infos:
Name: Raster Dataset
Description: Supports all ArcGIS Raster Datasets
Help:
Has Raster Attribute Table: false
Edit Fields Info: null
Ownership Based AccessControl For Rasters: null
Child Resources:
Info
Histograms
Key Properties
Legend
Raster Function Infos
Supported Operations:
Export Image
Identify
Measure
Compute Histograms
Compute Statistics Histograms
Get Samples
Compute Class Statistics
Query Boundary
Compute Pixel Location
Compute Angles
Validate
Project